BEGIN:VCALENDAR
VERSION:2.0
PRODID:-//Expressions Body Art and Design | Express Yourself with Face Painting, Glitter Tattoos, Henna, Hair Tinsel and More - ECPv6.15.20//NONSGML v1.0//EN
CALSCALE:GREGORIAN
METHOD:PUBLISH
X-WR-CALNAME:Expressions Body Art and Design | Express Yourself with Face Painting, Glitter Tattoos, Henna, Hair Tinsel and More
X-ORIGINAL-URL:https://expressionsbodyartdesign.com
X-WR-CALDESC:Events for Expressions Body Art and Design | Express Yourself with Face Painting, Glitter Tattoos, Henna, Hair Tinsel and More
REFRESH-INTERVAL;VALUE=DURATION:PT1H
X-Robots-Tag:noindex
X-PUBLISHED-TTL:PT1H
BEGIN:VTIMEZONE
TZID:America/Chicago
BEGIN:DAYLIGHT
TZOFFSETFROM:-0600
TZOFFSETTO:-0500
TZNAME:CDT
DTSTART:20220313T080000
END:DAYLIGHT
BEGIN:STANDARD
TZOFFSETFROM:-0500
TZOFFSETTO:-0600
TZNAME:CST
DTSTART:20221106T070000
END:STANDARD
BEGIN:DAYLIGHT
TZOFFSETFROM:-0600
TZOFFSETTO:-0500
TZNAME:CDT
DTSTART:20230312T080000
END:DAYLIGHT
BEGIN:STANDARD
TZOFFSETFROM:-0500
TZOFFSETTO:-0600
TZNAME:CST
DTSTART:20231105T070000
END:STANDARD
BEGIN:DAYLIGHT
TZOFFSETFROM:-0600
TZOFFSETTO:-0500
TZNAME:CDT
DTSTART:20240310T080000
END:DAYLIGHT
BEGIN:STANDARD
TZOFFSETFROM:-0500
TZOFFSETTO:-0600
TZNAME:CST
DTSTART:20241103T070000
END:STANDARD
END:VTIMEZONE
BEGIN:VEVENT
DTSTART;TZID=America/Chicago:20230827T060000
DTEND;TZID=America/Chicago:20230827T130000
DTSTAMP:20260424T072029
CREATED:20230728T042257Z
LAST-MODIFIED:20230728T042352Z
UID:10000001-1693116000-1693141200@expressionsbodyartdesign.com
SUMMARY:Curtis Orchard & Pumpkin Patch
DESCRIPTION:You can find Expressions Body Art and Design EVERY SUNDAY from August 27th thru October 29th at Curtis Orchard & Pumpkin Patch.  \nCurtis Orchard\n3902 S Duncan Rd\nChampaign\, IL 61822\n217-359-5565
URL:https://expressionsbodyartdesign.com/event/curtis-orchard-pumpkin-patch/
LOCATION:Curtis Orchard & Pumpkin Patch\, 3902 S Duncan Road\, Champaign\, IL\, 61822\, United States
ATTACH;FMTTYPE=image/png:https://expressionsbodyartdesign.com/wp-content/uploads/2023/07/Curtis-Logo.png
END:VEVENT
BEGIN:VEVENT
DTSTART;TZID=America/Chicago:20230826T050000
DTEND;TZID=America/Chicago:20230826T110000
DTSTAMP:20260424T072029
CREATED:20230730T064934Z
LAST-MODIFIED:20230805T080108Z
UID:10000013-1693026000-1693047600@expressionsbodyartdesign.com
SUMMARY:Oasis Balloons Over 66 Craft & Vendor Show
DESCRIPTION:https://destinationlogancountyil.com/balloons-over-66-info \nOasis Senior Center\n2810 Woodlawn Road. Lincoln\, IL 62656 \nSaturday\, 27th 10:00AM – 4:00PM \nThe Oasis will host a Craft and Vendor show during the Balloons Over 66 weekend here in Lincoln. There will be Brat/Hog dog and Corn on the Cob sold. They will be packed with vendors!
URL:https://expressionsbodyartdesign.com/event/oasis-balloons-over-66/
LOCATION:IL
ATTACH;FMTTYPE=image/jpeg:https://expressionsbodyartdesign.com/wp-content/uploads/2023/07/balloons-66.jpg
END:VEVENT
BEGIN:VEVENT
DTSTART;TZID=America/Chicago:20230819T093000
DTEND;TZID=America/Chicago:20230819T123000
DTSTAMP:20260424T072029
CREATED:20230801T031613Z
LAST-MODIFIED:20230801T031613Z
UID:10000023-1692437400-1692448200@expressionsbodyartdesign.com
SUMMARY:Back to School Bash
DESCRIPTION:Expressions Body Art and Design will be kicking off the BTS vibe with face painting at Triple M Farm on Saturday\, August 19th from 9:30 to 12:30.  \n16727 Airport Road | Clinton\, IL 61727\n8 Miles East of Clinton off of Route 10\nPhone: 217-627-MUMS (6867)\nGoogle Directions: https://goo.gl/maps/R8xHfvabtZAJx72r9
URL:https://expressionsbodyartdesign.com/event/bts-bash/
LOCATION:Triple M Farm\, 16727 Airport Road\, Clinton\, IL\, 61727\, United States
ATTACH;FMTTYPE=image/webp:https://expressionsbodyartdesign.com/wp-content/uploads/2023/07/Triple-M-Farms.webp
END:VEVENT
BEGIN:VEVENT
DTSTART;VALUE=DATE:20230816
DTEND;VALUE=DATE:20230817
DTSTAMP:20260424T072029
CREATED:20230808T070851Z
LAST-MODIFIED:20230808T070936Z
UID:10000024-1692144000-1692230399@expressionsbodyartdesign.com
SUMMARY:Private Event
DESCRIPTION:
URL:https://expressionsbodyartdesign.com/event/private-event-2/
LOCATION:IL
END:VEVENT
END:VCALENDAR