BEGIN:VCALENDAR
VERSION:2.0
PRODID:-//Expressions Body Art and Design | Express Yourself with Face Painting, Glitter Tattoos, Henna, Hair Tinsel and More - ECPv6.15.20//NONSGML v1.0//EN
CALSCALE:GREGORIAN
METHOD:PUBLISH
X-WR-CALNAME:Expressions Body Art and Design | Express Yourself with Face Painting, Glitter Tattoos, Henna, Hair Tinsel and More
X-ORIGINAL-URL:https://expressionsbodyartdesign.com
X-WR-CALDESC:Events for Expressions Body Art and Design | Express Yourself with Face Painting, Glitter Tattoos, Henna, Hair Tinsel and More
REFRESH-INTERVAL;VALUE=DURATION:PT1H
X-Robots-Tag:noindex
X-PUBLISHED-TTL:PT1H
BEGIN:VTIMEZONE
TZID:America/Chicago
BEGIN:DAYLIGHT
TZOFFSETFROM:-0600
TZOFFSETTO:-0500
TZNAME:CDT
DTSTART:20220313T080000
END:DAYLIGHT
BEGIN:STANDARD
TZOFFSETFROM:-0500
TZOFFSETTO:-0600
TZNAME:CST
DTSTART:20221106T070000
END:STANDARD
BEGIN:DAYLIGHT
TZOFFSETFROM:-0600
TZOFFSETTO:-0500
TZNAME:CDT
DTSTART:20230312T080000
END:DAYLIGHT
BEGIN:STANDARD
TZOFFSETFROM:-0500
TZOFFSETTO:-0600
TZNAME:CST
DTSTART:20231105T070000
END:STANDARD
BEGIN:DAYLIGHT
TZOFFSETFROM:-0600
TZOFFSETTO:-0500
TZNAME:CDT
DTSTART:20240310T080000
END:DAYLIGHT
BEGIN:STANDARD
TZOFFSETFROM:-0500
TZOFFSETTO:-0600
TZNAME:CST
DTSTART:20241103T070000
END:STANDARD
BEGIN:DAYLIGHT
TZOFFSETFROM:-0600
TZOFFSETTO:-0500
TZNAME:CDT
DTSTART:20250309T080000
END:DAYLIGHT
BEGIN:STANDARD
TZOFFSETFROM:-0500
TZOFFSETTO:-0600
TZNAME:CST
DTSTART:20251102T070000
END:STANDARD
END:VTIMEZONE
BEGIN:VEVENT
DTSTART;TZID=America/Chicago:20240301T160000
DTEND;TZID=America/Chicago:20240301T200000
DTSTAMP:20260423T111542
CREATED:20240108T021710Z
LAST-MODIFIED:20240110T042140Z
UID:10000064-1709308800-1709323200@expressionsbodyartdesign.com
SUMMARY:Midwest Market Spring [Craft and Vendor] Show
DESCRIPTION:MIDWEST MARKET SPRING SHOW\nJoin us on\nFriday\, March 1st from 4:00 – 8:00 PM\nSaturday\, March 2nd from 9:00 AM – 4:00 PM\nat the Midwest Market Spring Show in Effingham\, IL at the\nVillage Square Mall: 90 Village Square Mall\, Effingham\, IL 62401-2818\n\n\n\n\nWe will be offering face painting\, glitter tattoos\, and henna tattoos. \n\n\n\nWe will be located by the EASTER BUNNY!!!\n\nWe would love celebrate spring and have you EXPRESS YOURSELF with Expressions Body Art and Design!
URL:https://expressionsbodyartdesign.com/event/midwest-market-spring2024/
LOCATION:Village Square Mall\, 90 Village Square Mall\, Effingham\, IL\, 62401-2818\, United States
CATEGORIES:Craft and Vendor Shows
ATTACH;FMTTYPE=image/jpeg:https://expressionsbodyartdesign.com/wp-content/uploads/2024/01/MidwestMarket-Sping2024.jpg
END:VEVENT
BEGIN:VEVENT
DTSTART;TZID=America/Chicago:20240217T090000
DTEND;TZID=America/Chicago:20240217T150000
DTSTAMP:20260423T111542
CREATED:20231105T083508Z
LAST-MODIFIED:20240107T064910Z
UID:10000054-1708160400-1708182000@expressionsbodyartdesign.com
SUMMARY:Winter Blues [Craft and Vendor Show]
DESCRIPTION:Got the Winter Blues?\nWe have the cure for it!! Join us on Saturday\, February 17th at the Winter Blues Craft and Vendor show in Bloomington at the \nHoliday Inn & Suites: Bloomington Airport from 9:00 AM to 3:00 PM.\n3202 East Empire Street\, Bloomington\, IL 61704\n\n\n \n\n\nWe will be offering face painting\, glitter tattoos\, hair tinsel and henna tattoos. \n\nWe would love to help you cure the winter blues and EXPRESS YOURSELF with Expressions Body Art and Design! \n\n\n\n﻿﻿﻿
URL:https://expressionsbodyartdesign.com/event/winter-blues-2024/
LOCATION:Holiday Inn & Suites Bloomington-Airport\, 3202 East Empire Street\, Bloomington\, IL\, 61704\, United States
CATEGORIES:Craft and Vendor Shows
ATTACH;FMTTYPE=image/jpeg:https://expressionsbodyartdesign.com/wp-content/uploads/2023/11/WinterBlues.jpg
END:VEVENT
BEGIN:VEVENT
DTSTART;TZID=America/Chicago:20240127T100000
DTEND;TZID=America/Chicago:20240127T120000
DTSTAMP:20260423T111542
CREATED:20240107T062954Z
LAST-MODIFIED:20240107T062954Z
UID:10000059-1706349600-1706356800@expressionsbodyartdesign.com
SUMMARY:Private Event: Birthday Party
DESCRIPTION:
URL:https://expressionsbodyartdesign.com/event/private-event-birthday-party-4/
LOCATION:IL
CATEGORIES:Private Event
END:VEVENT
BEGIN:VEVENT
DTSTART;TZID=America/Chicago:20231231T050000
DTEND;TZID=America/Chicago:20231231T063000
DTSTAMP:20260423T111542
CREATED:20231227T012635Z
LAST-MODIFIED:20231227T013357Z
UID:10000058-1703998800-1704004200@expressionsbodyartdesign.com
SUMMARY:Noon Year's Eve Party
DESCRIPTION:Noon Year’s Eve Party\nDecember 31 @ 11:00 am – 12:30 pm\n\n\n\nAll Ages \nCome celebrate our Noon Year’s Eve Day event on New Year’s Eve! This celebration is a family-friendly event for children to experience the New Year’s Drop with their family at noon rather than having to stay up until midnight. Noon Year’s Eve includes activities\, music\, crazy hats\, noisemakers\, a countdown to the big moment\, and a drop of thousands of balloons.  \nDate: Sunday\, December 31\nFee: FREE \n\n\n1515 N Market St\nChampaign\, IL 61820\n\nhttps://champaignparks.com/martenscenter/
URL:https://expressionsbodyartdesign.com/event/noon-years-eve-party/
LOCATION:Martens Center\, 1515 N Market Street\, Champaign\, IL\, 61820\, United States
ATTACH;FMTTYPE=image/jpeg:https://expressionsbodyartdesign.com/wp-content/uploads/2023/12/new-years-day.jpg
END:VEVENT
BEGIN:VEVENT
DTSTART;TZID=America/Chicago:20231217T100000
DTEND;TZID=America/Chicago:20231217T150000
DTSTAMP:20260423T111542
CREATED:20231203T084901Z
LAST-MODIFIED:20231203T084946Z
UID:10000056-1702807200-1702825200@expressionsbodyartdesign.com
SUMMARY:Private Event: Expressions Christmas/Holiday Party 2023
DESCRIPTION:Taking time to celebrate with those that work along side each other is important\, we will closed on Sunday\, December 17th after 4:00 PM. 
URL:https://expressionsbodyartdesign.com/event/christmas-holiday-party-2023/
LOCATION:IL
END:VEVENT
BEGIN:VEVENT
DTSTART;TZID=America/Chicago:20231209T120000
DTEND;TZID=America/Chicago:20231209T133000
DTSTAMP:20260423T111542
CREATED:20231203T105424Z
LAST-MODIFIED:20231203T105658Z
UID:10000057-1702123200-1702128600@expressionsbodyartdesign.com
SUMMARY:Santa's Workshop
DESCRIPTION:All Ages \nJoin us to celebrate this holiday season! Enjoy holiday-themed crafts\, music\, games\, and a visit from Santa. Each guest will get to enjoy cookies and hot cocoa while hanging out with Santa. Don’t forget to dress in your favorite holiday wear!  \nDate: Saturday\, December 9 \n**************************************************** \n\n512 E Grove St\nChampaign\, IL 61820 United States\nGet Directions\n\n(217) 398-2573\nhttps://champaignparks.com/facility/douglass-community-center/\n 
URL:https://expressionsbodyartdesign.com/event/santas-workshop-2023/
LOCATION:Douglass Community Center\, 512 E Grove Street\, Champaign\, IL\, 61820\, United States
ATTACH;FMTTYPE=image/jpeg:https://expressionsbodyartdesign.com/wp-content/uploads/2023/12/santa-claus-1906513_1280.jpg
END:VEVENT
BEGIN:VEVENT
DTSTART;TZID=America/Chicago:20231209T090000
DTEND;TZID=America/Chicago:20231209T150000
DTSTAMP:20260423T111542
CREATED:20231105T080408Z
LAST-MODIFIED:20231203T085137Z
UID:10000053-1702112400-1702134000@expressionsbodyartdesign.com
SUMMARY:Santa's Last Stop
DESCRIPTION:Saturday\, December 9\, 2023\n9:00 AM to 3:00 PM \nI Hotel and Illinois Conference Center\n1900 S 1st Street\nChampaign\, IL 61820 United States + Google Map \nhttps://www.facebook.com/events/1227947577828842/
URL:https://expressionsbodyartdesign.com/event/santas-last-stop/
LOCATION:I Hotel and Illinois Conference Center\, 1900 S 1st Street\, Champaign\, IL\, 61820\, United States
ATTACH;FMTTYPE=image/jpeg:https://expressionsbodyartdesign.com/wp-content/uploads/2023/11/SantasLastStop.jpg
END:VEVENT
BEGIN:VEVENT
DTSTART;TZID=America/Chicago:20231202T070000
DTEND;TZID=America/Chicago:20231202T083000
DTSTAMP:20260423T111542
CREATED:20231120T110104Z
LAST-MODIFIED:20231120T115356Z
UID:10000055-1701500400-1701505800@expressionsbodyartdesign.com
SUMMARY:Twin Cities Nutcracker Experience
DESCRIPTION:Expressions Body Art and Design will be offering FREE face painting at the Twin Cities Ballet Nutcracker Ballet performance during the Nutcracker Experience on Saturday\, December 2\, 2023 from 1:00 to 2:30 PM for ticketholders. We will be offering our new holiday faces along with our traditional ones.\n\n\n\nExpressing yourself comes in many forms and we are excited to partner up with Twin Cities School of Dance to offer face painting to the ticketholders for the Saturday’s Nutcracker Experience event before the 3:00 performance.
URL:https://expressionsbodyartdesign.com/event/twin-cities-nutcracker-experience/
LOCATION:Illinois State University Bone Student Center\, 200 N University Street\, Normal\, IL\, 61761\, United States
ATTACH;FMTTYPE=image/jpeg:https://expressionsbodyartdesign.com/wp-content/uploads/2023/11/Facebook-EVENT-Header.jpg
END:VEVENT
BEGIN:VEVENT
DTSTART;TZID=America/Chicago:20231119T123000
DTEND;TZID=America/Chicago:20231119T150000
DTSTAMP:20260423T111542
CREATED:20231013T220248Z
LAST-MODIFIED:20231013T220729Z
UID:10000048-1700397000-1700406000@expressionsbodyartdesign.com
SUMMARY:Peoria Mustangs Hockey: Family Fun Day
DESCRIPTION:
URL:https://expressionsbodyartdesign.com/event/peoria-mustangs-hockey-family-fun-day/
LOCATION:Owens Center\, 1019 W Lake Avenue\, Peoria\, IL\, 61614\, United States
ATTACH;FMTTYPE=image/png:https://expressionsbodyartdesign.com/wp-content/uploads/2023/10/Peoria_Mustangs_logo.png
END:VEVENT
BEGIN:VEVENT
DTSTART;TZID=America/Chicago:20231118T170000
DTEND;TZID=America/Chicago:20231118T200000
DTSTAMP:20260423T111542
CREATED:20230907T185645Z
LAST-MODIFIED:20241231T194218Z
UID:10000032-1700326800-1700337600@expressionsbodyartdesign.com
SUMMARY:Private Event: Glow Up Party
DESCRIPTION:
URL:https://expressionsbodyartdesign.com/event/private-event-111823/
LOCATION:IL
ATTACH;FMTTYPE=image/png:https://expressionsbodyartdesign.com/wp-content/uploads/2024/06/PrivateEvent-EBAD.png
END:VEVENT
BEGIN:VEVENT
DTSTART;TZID=America/Chicago:20231118T090000
DTEND;TZID=America/Chicago:20231118T200000
DTSTAMP:20260423T111542
CREATED:20231016T233246Z
LAST-MODIFIED:20231016T233246Z
UID:10000052-1700298000-1700337600@expressionsbodyartdesign.com
SUMMARY:Festival of Trees
DESCRIPTION:Face Painting: Traditional and Winter/Holiday Faces! \n\nThursday\, November 16: 4:00 – 8:00 PM\nFriday\, November 17: 4:00 – 8:00 PM\nSaturday\, November 18: 9:00 AM -8:00 PM\n\n 
URL:https://expressionsbodyartdesign.com/event/festival-of-trees-11182023/
LOCATION:Interstate Center\, 1106 Interstate Drive\, Bloomington\, IL\, 61705\, United States
ATTACH;FMTTYPE=image/jpeg:https://expressionsbodyartdesign.com/wp-content/uploads/2023/10/FestivalofTrees-WEB.jpg
END:VEVENT
BEGIN:VEVENT
DTSTART;TZID=America/Chicago:20231118T090000
DTEND;TZID=America/Chicago:20231118T140000
DTSTAMP:20260423T111542
CREATED:20230918T215442Z
LAST-MODIFIED:20230918T220104Z
UID:10000040-1700298000-1700316000@expressionsbodyartdesign.com
SUMMARY:Normal West Bands: Craft and Vendor Show
DESCRIPTION:Face Painting\, Customized Holiday and NCWHS Glitter Tattoos\, and Hair Tinsel!
URL:https://expressionsbodyartdesign.com/event/west-bands-craft-and-vendor-show/
LOCATION:Normal Community West High School\, 501 N Parkside Road\, Normal\, IL\, 61761\, United States
ATTACH;FMTTYPE=image/jpeg:https://expressionsbodyartdesign.com/wp-content/uploads/2023/09/NormalWestHighSchool630.jpg
END:VEVENT
BEGIN:VEVENT
DTSTART;TZID=America/Chicago:20231117T160000
DTEND;TZID=America/Chicago:20231117T200000
DTSTAMP:20260423T111542
CREATED:20231016T233157Z
LAST-MODIFIED:20231016T233157Z
UID:10000051-1700236800-1700251200@expressionsbodyartdesign.com
SUMMARY:Festival of Trees
DESCRIPTION:Face Painting: Traditional and Winter/Holiday Faces! \n\nThursday\, November 16: 4:00 – 8:00 PM\nFriday\, November 17: 4:00 – 8:00 PM\nSaturday\, November 18: 9:00 AM -8:00 PM\n\n 
URL:https://expressionsbodyartdesign.com/event/festival-of-trees-11172023/
LOCATION:Interstate Center\, 1106 Interstate Drive\, Bloomington\, IL\, 61705\, United States
ATTACH;FMTTYPE=image/jpeg:https://expressionsbodyartdesign.com/wp-content/uploads/2023/10/FestivalofTrees-WEB.jpg
END:VEVENT
BEGIN:VEVENT
DTSTART;TZID=America/Chicago:20231116T160000
DTEND;TZID=America/Chicago:20231116T200000
DTSTAMP:20260423T111542
CREATED:20231016T232523Z
LAST-MODIFIED:20231016T233118Z
UID:10000050-1700150400-1700164800@expressionsbodyartdesign.com
SUMMARY:Festival of Trees
DESCRIPTION:Face Painting: Traditional and Winter/Holiday Faces! \n\nThursday\, November 16: 4:00 – 8:00 PM\nFriday\, November 17: 4:00 – 8:00 PM\nSaturday\, November 18: 9:00 AM -8:00 PM\n\n 
URL:https://expressionsbodyartdesign.com/event/festival-of-trees-11162023/
LOCATION:Interstate Center\, 1106 Interstate Drive\, Bloomington\, IL\, 61705\, United States
ATTACH;FMTTYPE=image/jpeg:https://expressionsbodyartdesign.com/wp-content/uploads/2023/10/FestivalofTrees-WEB.jpg
END:VEVENT
BEGIN:VEVENT
DTSTART;TZID=America/Chicago:20231111T030000
DTEND;TZID=America/Chicago:20231111T080000
DTSTAMP:20260423T111542
CREATED:20230730T063052Z
LAST-MODIFIED:20230730T063432Z
UID:10000002-1699671600-1699689600@expressionsbodyartdesign.com
SUMMARY:Ironmen Bands: Craft and Vendor Show
DESCRIPTION:Face Painting\, Customized Holiday and NCHS Spiritwear Glitter Tattoos\, and Hair Tinsel! \n20% goes back to the NCHS Ironmen Bands!!!! \nWe will be located in the fishbowl area by the outside doors!
URL:https://expressionsbodyartdesign.com/event/ironmen-bands/
LOCATION:Normal Community High School\, 3900 East Raab Road\, Normal\, IL\, 61761\, United States
ATTACH;FMTTYPE=image/jpeg:https://expressionsbodyartdesign.com/wp-content/uploads/2023/07/NCHS.jpg
END:VEVENT
BEGIN:VEVENT
DTSTART;TZID=America/Chicago:20231104T093000
DTEND;TZID=America/Chicago:20231104T113000
DTSTAMP:20260423T111542
CREATED:20230913T193707Z
LAST-MODIFIED:20230913T193707Z
UID:10000034-1699090200-1699097400@expressionsbodyartdesign.com
SUMMARY:Private Event: Birthday Party
DESCRIPTION:
URL:https://expressionsbodyartdesign.com/event/private-event-birthday-party-2/
LOCATION:IL
END:VEVENT
BEGIN:VEVENT
DTSTART;TZID=America/Chicago:20231104T090000
DTEND;TZID=America/Chicago:20231104T140000
DTSTAMP:20260423T111542
CREATED:20231013T214952Z
LAST-MODIFIED:20231013T215520Z
UID:10000047-1699088400-1699106400@expressionsbodyartdesign.com
SUMMARY:Bloomington High School Craft and Vendor Show
DESCRIPTION:
URL:https://expressionsbodyartdesign.com/event/bhs-craft-and-vendor-show/
LOCATION:Bloomington High School\, 1202 East Locust Street\, Bloomington\, IL\, 61701\, United States
ATTACH;FMTTYPE=image/png:https://expressionsbodyartdesign.com/wp-content/uploads/2023/10/Bloomington_High_School_logo_template_300.png
END:VEVENT
BEGIN:VEVENT
DTSTART;TZID=America/Chicago:20231029T050000
DTEND;TZID=America/Chicago:20231029T130000
DTSTAMP:20260423T111542
CREATED:20230730T064151Z
LAST-MODIFIED:20230730T064151Z
UID:10000012-1698555600-1698584400@expressionsbodyartdesign.com
SUMMARY:Curtis Orchard & Pumpkin Patch
DESCRIPTION:You can find Expressions Body Art and Design EVERY SUNDAY from August 27th thru October 29th at Curtis Orchard & Pumpkin Patch.  \nCurtis Orchard\n3902 S Duncan Rd\nChampaign\, IL 61822\n217-359-5565
URL:https://expressionsbodyartdesign.com/event/curtis-orchard-pumpkin-patch-10/
LOCATION:Curtis Orchard & Pumpkin Patch\, 3902 S Duncan Road\, Champaign\, IL\, 61822\, United States
ATTACH;FMTTYPE=image/png:https://expressionsbodyartdesign.com/wp-content/uploads/2023/07/Curtis-Logo.png
END:VEVENT
BEGIN:VEVENT
DTSTART;TZID=America/Chicago:20231028T040000
DTEND;TZID=America/Chicago:20231028T130000
DTSTAMP:20260423T111542
CREATED:20230730T071900Z
LAST-MODIFIED:20230730T071900Z
UID:10000022-1698465600-1698498000@expressionsbodyartdesign.com
SUMMARY:Curtis Orchard & Pumpkin Patch
DESCRIPTION:You can find Expressions Body Art and Design offering fall faces\, traditional faces and glitter tattoos! \nCurtis Orchard\n3902 S Duncan Rd\nChampaign\, IL 61822\n217-359-5565
URL:https://expressionsbodyartdesign.com/event/curtis-orchard-pumpkin-patch-17/
LOCATION:Curtis Orchard & Pumpkin Patch\, 3902 S Duncan Road\, Champaign\, IL\, 61822\, United States
ATTACH;FMTTYPE=image/png:https://expressionsbodyartdesign.com/wp-content/uploads/2023/07/Curtis-Logo.png
END:VEVENT
BEGIN:VEVENT
DTSTART;TZID=America/Chicago:20231022T140000
DTEND;TZID=America/Chicago:20231022T160000
DTSTAMP:20260423T111542
CREATED:20231006T015359Z
LAST-MODIFIED:20231006T015438Z
UID:10000043-1697983200-1697990400@expressionsbodyartdesign.com
SUMMARY:Private Event: School Fundraiser Run
DESCRIPTION:
URL:https://expressionsbodyartdesign.com/event/private-event-10222023/
LOCATION:IL
END:VEVENT
BEGIN:VEVENT
DTSTART;TZID=America/Chicago:20231022T050000
DTEND;TZID=America/Chicago:20231022T130000
DTSTAMP:20260423T111542
CREATED:20230730T064124Z
LAST-MODIFIED:20230730T064124Z
UID:10000011-1697950800-1697979600@expressionsbodyartdesign.com
SUMMARY:Curtis Orchard & Pumpkin Patch
DESCRIPTION:You can find Expressions Body Art and Design EVERY SUNDAY from August 27th thru October 29th at Curtis Orchard & Pumpkin Patch.  \nCurtis Orchard\n3902 S Duncan Rd\nChampaign\, IL 61822\n217-359-5565
URL:https://expressionsbodyartdesign.com/event/curtis-orchard-pumpkin-patch-9/
LOCATION:Curtis Orchard & Pumpkin Patch\, 3902 S Duncan Road\, Champaign\, IL\, 61822\, United States
ATTACH;FMTTYPE=image/png:https://expressionsbodyartdesign.com/wp-content/uploads/2023/07/Curtis-Logo.png
END:VEVENT
BEGIN:VEVENT
DTSTART;TZID=America/Chicago:20231021T040000
DTEND;TZID=America/Chicago:20231021T130000
DTSTAMP:20260423T111542
CREATED:20230730T071834Z
LAST-MODIFIED:20230730T071834Z
UID:10000021-1697860800-1697893200@expressionsbodyartdesign.com
SUMMARY:Curtis Orchard & Pumpkin Patch
DESCRIPTION:You can find Expressions Body Art and Design offering fall faces\, traditional faces and glitter tattoos! \nCurtis Orchard\n3902 S Duncan Rd\nChampaign\, IL 61822\n217-359-5565
URL:https://expressionsbodyartdesign.com/event/curtis-orchard-pumpkin-patch-16/
LOCATION:Curtis Orchard & Pumpkin Patch\, 3902 S Duncan Road\, Champaign\, IL\, 61822\, United States
ATTACH;FMTTYPE=image/png:https://expressionsbodyartdesign.com/wp-content/uploads/2023/07/Curtis-Logo.png
END:VEVENT
BEGIN:VEVENT
DTSTART;TZID=America/Chicago:20231020T160000
DTEND;TZID=America/Chicago:20231020T180000
DTSTAMP:20260423T111542
CREATED:20231013T212303Z
LAST-MODIFIED:20231013T215645Z
UID:10000046-1697817600-1697824800@expressionsbodyartdesign.com
SUMMARY:Dairy Queen Ice Cream Social: Chillicothe
DESCRIPTION:
URL:https://expressionsbodyartdesign.com/event/dairy-queen-chillicothe/
LOCATION:Dairy Queen: Chillicothe\, 1206 N 4th Street\, Chillicothe\, IL\, 61523\, United States
ATTACH;FMTTYPE=image/webp:https://expressionsbodyartdesign.com/wp-content/uploads/2023/10/Dairy_Queen_logo.svg_.webp
END:VEVENT
BEGIN:VEVENT
DTSTART;TZID=America/Chicago:20231015T050000
DTEND;TZID=America/Chicago:20231015T130000
DTSTAMP:20260423T111542
CREATED:20230730T064048Z
LAST-MODIFIED:20230730T064048Z
UID:10000010-1697346000-1697374800@expressionsbodyartdesign.com
SUMMARY:Curtis Orchard & Pumpkin Patch
DESCRIPTION:You can find Expressions Body Art and Design EVERY SUNDAY from August 27th thru October 29th at Curtis Orchard & Pumpkin Patch.  \nCurtis Orchard\n3902 S Duncan Rd\nChampaign\, IL 61822\n217-359-5565
URL:https://expressionsbodyartdesign.com/event/curtis-orchard-pumpkin-patch-8/
LOCATION:Curtis Orchard & Pumpkin Patch\, 3902 S Duncan Road\, Champaign\, IL\, 61822\, United States
ATTACH;FMTTYPE=image/png:https://expressionsbodyartdesign.com/wp-content/uploads/2023/07/Curtis-Logo.png
END:VEVENT
BEGIN:VEVENT
DTSTART;TZID=America/Chicago:20231014T170000
DTEND;TZID=America/Chicago:20231014T183000
DTSTAMP:20260423T111542
CREATED:20230918T214720Z
LAST-MODIFIED:20230918T214756Z
UID:10000039-1697302800-1697308200@expressionsbodyartdesign.com
SUMMARY:Private Event: Girl's Fall-A-Ween Party
DESCRIPTION:
URL:https://expressionsbodyartdesign.com/event/girls-fall-a-ween-party/
LOCATION:IL
END:VEVENT
BEGIN:VEVENT
DTSTART;TZID=America/Chicago:20231014T060000
DTEND;TZID=America/Chicago:20231014T100000
DTSTAMP:20260423T111542
CREATED:20230916T021306Z
LAST-MODIFIED:20230916T021306Z
UID:10000037-1697263200-1697277600@expressionsbodyartdesign.com
SUMMARY:Customer Appreciation Event: Napleton Automotive Group
DESCRIPTION:
URL:https://expressionsbodyartdesign.com/event/napleton-automotive-group/
LOCATION:Napleton Auto Group\, 1111 Napleton Way\, Urbana\, IL\, 61802\, United States
ATTACH;FMTTYPE=image/png:https://expressionsbodyartdesign.com/wp-content/uploads/2023/09/napleton-logo-549x253-1.png
END:VEVENT
BEGIN:VEVENT
DTSTART;TZID=America/Chicago:20231014T040000
DTEND;TZID=America/Chicago:20231014T130000
DTSTAMP:20260423T111542
CREATED:20230730T071802Z
LAST-MODIFIED:20230730T071802Z
UID:10000020-1697256000-1697288400@expressionsbodyartdesign.com
SUMMARY:Curtis Orchard & Pumpkin Patch
DESCRIPTION:You can find Expressions Body Art and Design offering fall faces\, traditional faces and glitter tattoos! \nCurtis Orchard\n3902 S Duncan Rd\nChampaign\, IL 61822\n217-359-5565
URL:https://expressionsbodyartdesign.com/event/curtis-orchard-pumpkin-patch-15/
LOCATION:Curtis Orchard & Pumpkin Patch\, 3902 S Duncan Road\, Champaign\, IL\, 61822\, United States
ATTACH;FMTTYPE=image/png:https://expressionsbodyartdesign.com/wp-content/uploads/2023/07/Curtis-Logo.png
END:VEVENT
BEGIN:VEVENT
DTSTART;TZID=America/Chicago:20231013T160000
DTEND;TZID=America/Chicago:20231013T200000
DTSTAMP:20260423T111542
CREATED:20230918T214614Z
LAST-MODIFIED:20230918T215038Z
UID:10000038-1697212800-1697227200@expressionsbodyartdesign.com
SUMMARY:Private Event: School Carnival
DESCRIPTION:
URL:https://expressionsbodyartdesign.com/event/school-carnival/
LOCATION:IL
END:VEVENT
BEGIN:VEVENT
DTSTART;TZID=America/Chicago:20231008T110000
DTEND;TZID=America/Chicago:20231008T150000
DTSTAMP:20260423T111542
CREATED:20231006T015022Z
LAST-MODIFIED:20231006T015226Z
UID:10000042-1696762800-1696777200@expressionsbodyartdesign.com
SUMMARY:Private Event: Company Picnic
DESCRIPTION:
URL:https://expressionsbodyartdesign.com/event/private-event-10082023/
LOCATION:IL
END:VEVENT
BEGIN:VEVENT
DTSTART;TZID=America/Chicago:20231008T050000
DTEND;TZID=America/Chicago:20231008T130000
DTSTAMP:20260423T111542
CREATED:20230730T064020Z
LAST-MODIFIED:20230730T064020Z
UID:10000009-1696741200-1696770000@expressionsbodyartdesign.com
SUMMARY:Curtis Orchard & Pumpkin Patch
DESCRIPTION:You can find Expressions Body Art and Design EVERY SUNDAY from August 27th thru October 29th at Curtis Orchard & Pumpkin Patch.  \nCurtis Orchard\n3902 S Duncan Rd\nChampaign\, IL 61822\n217-359-5565
URL:https://expressionsbodyartdesign.com/event/curtis-orchard-pumpkin-patch-7/
LOCATION:Curtis Orchard & Pumpkin Patch\, 3902 S Duncan Road\, Champaign\, IL\, 61822\, United States
ATTACH;FMTTYPE=image/png:https://expressionsbodyartdesign.com/wp-content/uploads/2023/07/Curtis-Logo.png
END:VEVENT
END:VCALENDAR