BEGIN:VCALENDAR
VERSION:2.0
PRODID:-//Expressions Body Art and Design | Express Yourself with Face Painting, Glitter Tattoos, Henna, Hair Tinsel and More - ECPv6.15.20//NONSGML v1.0//EN
CALSCALE:GREGORIAN
METHOD:PUBLISH
X-WR-CALNAME:Expressions Body Art and Design | Express Yourself with Face Painting, Glitter Tattoos, Henna, Hair Tinsel and More
X-ORIGINAL-URL:https://expressionsbodyartdesign.com
X-WR-CALDESC:Events for Expressions Body Art and Design | Express Yourself with Face Painting, Glitter Tattoos, Henna, Hair Tinsel and More
REFRESH-INTERVAL;VALUE=DURATION:PT1H
X-Robots-Tag:noindex
X-PUBLISHED-TTL:PT1H
BEGIN:VTIMEZONE
TZID:America/Chicago
BEGIN:DAYLIGHT
TZOFFSETFROM:-0600
TZOFFSETTO:-0500
TZNAME:CDT
DTSTART:20250309T080000
END:DAYLIGHT
BEGIN:STANDARD
TZOFFSETFROM:-0500
TZOFFSETTO:-0600
TZNAME:CST
DTSTART:20251102T070000
END:STANDARD
BEGIN:DAYLIGHT
TZOFFSETFROM:-0600
TZOFFSETTO:-0500
TZNAME:CDT
DTSTART:20260308T080000
END:DAYLIGHT
BEGIN:STANDARD
TZOFFSETFROM:-0500
TZOFFSETTO:-0600
TZNAME:CST
DTSTART:20261101T070000
END:STANDARD
BEGIN:DAYLIGHT
TZOFFSETFROM:-0600
TZOFFSETTO:-0500
TZNAME:CDT
DTSTART:20270314T080000
END:DAYLIGHT
BEGIN:STANDARD
TZOFFSETFROM:-0500
TZOFFSETTO:-0600
TZNAME:CST
DTSTART:20271107T070000
END:STANDARD
END:VTIMEZONE
BEGIN:VEVENT
DTSTART;TZID=America/Chicago:20260607T120000
DTEND;TZID=America/Chicago:20260607T190000
DTSTAMP:20260424T045023
CREATED:20260305T210548Z
LAST-MODIFIED:20260305T210548Z
UID:10000852-1780833600-1780858800@expressionsbodyartdesign.com
SUMMARY:Hippie Fest 2026
DESCRIPTION:Hippie Fest 2026 \nWe are BEYOND excited to be a part of the Michigan HIPPIE FEST 2026!!!\nWe will be offering face painting\, body painting\, glitter tattoos\, henna tattoos and hair tinsel!\nLearn more: https://www.hippiefest.org/ \n  \nTreetoad Family Farm\n1650 N Johnson Rd Trufant\, MI 49347 \nSaturday\, June 6th: NOON to 7:00 PM\nSunday\, June 7th: NOON to 7:00 PM\nGet your tickets here: https://www.eventbrite.com/e/hippie-fest-michigan-2026-tickets-1763167203569?
URL:https://expressionsbodyartdesign.com/event/hippie-fest-2026-2/
LOCATION:Treetoad Family Farm\, 1650 N Johnson Road\, Trufant\, MI\, 49347\, United States
CATEGORIES:Community Event,Craft and Vendor Shows,Festival,Public Event,Vendor Show
ATTACH;FMTTYPE=image/jpeg:https://expressionsbodyartdesign.com/wp-content/uploads/2026/03/hippiefest2026.jpg
END:VEVENT
BEGIN:VEVENT
DTSTART;TZID=America/Chicago:20260606T120000
DTEND;TZID=America/Chicago:20260606T190000
DTSTAMP:20260424T045023
CREATED:20260305T210520Z
LAST-MODIFIED:20260305T210520Z
UID:10000851-1780747200-1780772400@expressionsbodyartdesign.com
SUMMARY:Hippie Fest 2026
DESCRIPTION:Hippie Fest 2026 \nWe are BEYOND excited to be a part of the Michigan HIPPIE FEST 2026!!!\nWe will be offering face painting\, body painting\, glitter tattoos\, henna tattoos and hair tinsel!\nLearn more: https://www.hippiefest.org/ \n  \nTreetoad Family Farm\n1650 N Johnson Rd Trufant\, MI 49347 \nSaturday\, June 6th: NOON to 7:00 PM\nSunday\, June 7th: NOON to 7:00 PM\nGet your tickets here: https://www.eventbrite.com/e/hippie-fest-michigan-2026-tickets-1763167203569?
URL:https://expressionsbodyartdesign.com/event/hippie-fest-2026/
LOCATION:Treetoad Family Farm\, 1650 N Johnson Road\, Trufant\, MI\, 49347\, United States
CATEGORIES:Community Event,Craft and Vendor Shows,Festival,Public Event,Vendor Show
ATTACH;FMTTYPE=image/jpeg:https://expressionsbodyartdesign.com/wp-content/uploads/2026/03/hippiefest2026.jpg
END:VEVENT
BEGIN:VEVENT
DTSTART;TZID=America/Chicago:20260606T120000
DTEND;TZID=America/Chicago:20260606T140000
DTSTAMP:20260424T045023
CREATED:20260305T211042Z
LAST-MODIFIED:20260305T211042Z
UID:10000853-1780747200-1780754400@expressionsbodyartdesign.com
SUMMARY:Chillicothe Public Library: Summer Celebration/Summer Reading Kick-off
DESCRIPTION:Summer Celebration/Summer Reading Kick-off  \nOffering face painting from 12:00-2:00 PM\nChillicothe Public Library\, 430 N Bradley Ave\, Chillicothe\, IL 61523
URL:https://expressionsbodyartdesign.com/event/chillicothe-public-library-2026/
LOCATION:Chillicothe Public Library\, 430 N Bradley Avenue\, Chillicothe\, IL\, 61523\, United States
CATEGORIES:Sponsored Event
ATTACH;FMTTYPE=image/jpeg:https://expressionsbodyartdesign.com/wp-content/uploads/2024/03/CPLD-FrontBuilding.jpg
END:VEVENT
BEGIN:VEVENT
DTSTART;TZID=America/Chicago:20260606T073000
DTEND;TZID=America/Chicago:20260606T120000
DTSTAMP:20260424T045023
CREATED:20260423T181444Z
LAST-MODIFIED:20260423T181922Z
UID:10000901-1780731000-1780747200@expressionsbodyartdesign.com
SUMMARY:Downtown Bloomington Farmers' Market
DESCRIPTION:Our booth will be located on the corner of Jefferson and Center on the Square in Downtown Bloomington!
URL:https://expressionsbodyartdesign.com/event/dbfm-2026/2026-06-06/
LOCATION:Downtown Bloomington on the Square\, 200 N Main Street\, Bloomington\, IL\, 61701\, United States
CATEGORIES:Community Event,Family Event,Farmer's Market,Public Event
ATTACH;FMTTYPE=image/jpeg:https://expressionsbodyartdesign.com/wp-content/uploads/2025/04/IMG_7559.jpg
END:VEVENT
BEGIN:VEVENT
DTSTART;TZID=America/Chicago:20260602T140000
DTEND;TZID=America/Chicago:20260602T180000
DTSTAMP:20260424T045023
CREATED:20260305T205031Z
LAST-MODIFIED:20260305T205031Z
UID:10000850-1780408800-1780423200@expressionsbodyartdesign.com
SUMMARY:Alpha Public Library: Summer Reading Kick Off Event
DESCRIPTION:
URL:https://expressionsbodyartdesign.com/event/alpha-public-library-2026/
LOCATION:Alpha Public Library\, 3527 South Airport Road\, Bartonville\, IL\, 61607-1799
CATEGORIES:Family Event,Library Event,Public Event,Sponsored Event
ATTACH;FMTTYPE=image/jpeg:https://expressionsbodyartdesign.com/wp-content/uploads/2026/03/alpha.jpg
END:VEVENT
BEGIN:VEVENT
DTSTART;TZID=America/Chicago:20260530T120000
DTEND;TZID=America/Chicago:20260530T140000
DTSTAMP:20260424T045023
CREATED:20260423T165136Z
LAST-MODIFIED:20260423T165136Z
UID:10000884-1780142400-1780149600@expressionsbodyartdesign.com
SUMMARY:Freedom Fest 2026
DESCRIPTION:Honoring America’s 250th Birthday with FREE Face Painting from NOON to 2:00 PM
URL:https://expressionsbodyartdesign.com/event/freedom-fest-2026/
LOCATION:American Hungarian Club\, 1520 Calhoun Street\, Bloomington\, 61701\, United States
CATEGORIES:Community Event,Sponsored Event
ATTACH;FMTTYPE=image/png:https://expressionsbodyartdesign.com/wp-content/uploads/2026/04/Freedom-Fest-Flyer-Version-10.png
END:VEVENT
BEGIN:VEVENT
DTSTART;TZID=America/Chicago:20260530T080000
DTEND;TZID=America/Chicago:20260530T230000
DTSTAMP:20260424T045023
CREATED:20260318T013430Z
LAST-MODIFIED:20260318T024224Z
UID:10000876-1780128000-1780182000@expressionsbodyartdesign.com
SUMMARY:Farmer's City Heritage Days
DESCRIPTION:2026 FARMER CITY HERITAGE DAYS\n  \n\nThursday\, May 28\, 2026 – 4 pm to 10 pm \nFriday\, May 29\, 2026 – 3 pm to 11 pm \nSaturday\, May 30\, 2026 – 8 am to 11 pm\n\nFestival GPS Position:\n850 N Grove St\, Farmer City\, IL 61842
URL:https://expressionsbodyartdesign.com/event/farmers-city-heritage-days/2026-05-30/
LOCATION:DeWitt County 4-H Fairgrounds\, 850 N Grove Street\, Farmer City\, IL\, 61842\, United States
CATEGORIES:Community Event,Craft and Vendor Shows,Family Event,Festival,Public Event,Sponsored Event,Vendor Show
ATTACH;FMTTYPE=image/jpeg:https://expressionsbodyartdesign.com/wp-content/uploads/2026/03/2026-fchd-poster.jpg
END:VEVENT
BEGIN:VEVENT
DTSTART;TZID=America/Chicago:20260529T150000
DTEND;TZID=America/Chicago:20260529T230000
DTSTAMP:20260424T045023
CREATED:20260318T013430Z
LAST-MODIFIED:20260318T024224Z
UID:10000875-1780066800-1780095600@expressionsbodyartdesign.com
SUMMARY:Farmer's City Heritage Days
DESCRIPTION:2026 FARMER CITY HERITAGE DAYS\n  \n\nThursday\, May 28\, 2026 – 4 pm to 10 pm \nFriday\, May 29\, 2026 – 3 pm to 11 pm \nSaturday\, May 30\, 2026 – 8 am to 11 pm\n\nFestival GPS Position:\n850 N Grove St\, Farmer City\, IL 61842
URL:https://expressionsbodyartdesign.com/event/farmers-city-heritage-days/2026-05-29/
LOCATION:DeWitt County 4-H Fairgrounds\, 850 N Grove Street\, Farmer City\, IL\, 61842\, United States
CATEGORIES:Community Event,Craft and Vendor Shows,Family Event,Festival,Public Event,Sponsored Event,Vendor Show
ATTACH;FMTTYPE=image/jpeg:https://expressionsbodyartdesign.com/wp-content/uploads/2026/03/2026-fchd-poster.jpg
END:VEVENT
BEGIN:VEVENT
DTSTART;TZID=America/Chicago:20260528T160000
DTEND;TZID=America/Chicago:20260528T220000
DTSTAMP:20260424T045023
CREATED:20260318T013430Z
LAST-MODIFIED:20260318T024224Z
UID:10000874-1779984000-1780005600@expressionsbodyartdesign.com
SUMMARY:Farmer's City Heritage Days
DESCRIPTION:2026 FARMER CITY HERITAGE DAYS\n  \n\nThursday\, May 28\, 2026 – 4 pm to 10 pm \nFriday\, May 29\, 2026 – 3 pm to 11 pm \nSaturday\, May 30\, 2026 – 8 am to 11 pm\n\nFestival GPS Position:\n850 N Grove St\, Farmer City\, IL 61842
URL:https://expressionsbodyartdesign.com/event/farmers-city-heritage-days/2026-05-28/
LOCATION:DeWitt County 4-H Fairgrounds\, 850 N Grove Street\, Farmer City\, IL\, 61842\, United States
CATEGORIES:Community Event,Craft and Vendor Shows,Family Event,Festival,Public Event,Sponsored Event,Vendor Show
ATTACH;FMTTYPE=image/jpeg:https://expressionsbodyartdesign.com/wp-content/uploads/2026/03/2026-fchd-poster.jpg
END:VEVENT
BEGIN:VEVENT
DTSTART;TZID=America/Chicago:20260518T160000
DTEND;TZID=America/Chicago:20260518T200000
DTSTAMP:20260424T045023
CREATED:20260305T202101Z
LAST-MODIFIED:20260305T202241Z
UID:10000840-1779120000-1779134400@expressionsbodyartdesign.com
SUMMARY:Festival of Food Trucks [Monthly]
DESCRIPTION:The 2026 dates for the Festival of Food Trucks are:\nMarch 23\, 2026\nApril 20\, 2026\nMay 18\, 2026\nJune 15\, 2026\nJuly 20\, 2026\nAugust 17\, 2026\nSeptember 21\, 2026\nOctober 10\, 2026 (Trick or Treat Event)
URL:https://expressionsbodyartdesign.com/event/festival-of-food-trucks-2026/2026-05-18/
LOCATION:Connect Center\, 1750 Washington Road\, Washington\, 61571\, United States
CATEGORIES:Community Event,Food Truck Festival,Public Event
ATTACH;FMTTYPE=image/jpeg:https://expressionsbodyartdesign.com/wp-content/uploads/2024/07/Food-Truck-600x380-1.jpg
END:VEVENT
BEGIN:VEVENT
DTSTART;TZID=America/Chicago:20260516T120000
DTEND;TZID=America/Chicago:20260516T150000
DTSTAMP:20260424T045023
CREATED:20260327T004258Z
LAST-MODIFIED:20260327T004258Z
UID:10000880-1778932800-1778943600@expressionsbodyartdesign.com
SUMMARY:Humane Society: Fur-Chella 2026
DESCRIPTION:Fur-Chella 2026: A Festival for the Animals\n\nFur-Chella is a music-festival-inspired pet adoption and community event hosted by the Humane Society of Central Illinois. The event brings together local vendors\, food trucks\, musicians\, sponsors\, and hundreds of pet-loving attendees for an afternoon focused on community\, connection\, and helping animals find forever homes.
URL:https://expressionsbodyartdesign.com/event/humane-society-fur-chella-2026/
LOCATION:Humane Society of Central Illinois\, 423 N Kays Drive\, Normal\, IL\, 61761\, United States
CATEGORIES:Awareness,Community Event,Family Event,Fundraiser,Public Event
ATTACH;FMTTYPE=image/jpeg:https://expressionsbodyartdesign.com/wp-content/uploads/2026/03/poster_board_Fur_Chella_Header.jpg
END:VEVENT
BEGIN:VEVENT
DTSTART;TZID=America/Chicago:20260509T073000
DTEND;TZID=America/Chicago:20260509T120000
DTSTAMP:20260424T045023
CREATED:20260423T181444Z
LAST-MODIFIED:20260423T181922Z
UID:10000900-1778311800-1778328000@expressionsbodyartdesign.com
SUMMARY:Downtown Bloomington Farmers' Market
DESCRIPTION:Our booth will be located on the corner of Jefferson and Center on the Square in Downtown Bloomington!
URL:https://expressionsbodyartdesign.com/event/dbfm-2026/2026-05-09/
LOCATION:Downtown Bloomington on the Square\, 200 N Main Street\, Bloomington\, IL\, 61701\, United States
CATEGORIES:Community Event,Family Event,Farmer's Market,Public Event
ATTACH;FMTTYPE=image/jpeg:https://expressionsbodyartdesign.com/wp-content/uploads/2025/04/IMG_7559.jpg
END:VEVENT
BEGIN:VEVENT
DTSTART;TZID=America/Chicago:20260506T110000
DTEND;TZID=America/Chicago:20260506T140000
DTSTAMP:20260424T045023
CREATED:20260423T171543Z
LAST-MODIFIED:20260423T171543Z
UID:10000885-1778065200-1778076000@expressionsbodyartdesign.com
SUMMARY:Illinois Central College: The Ultimate Study Break
DESCRIPTION:De-stress at the Ultimate Study Break with food\, music\, fun\, and games \nOffering FREE Face Painting\, Glitter Tattoos\n from 10 AM to 2 PM
URL:https://expressionsbodyartdesign.com/event/icc-the-ultimate-study-break-2026/
LOCATION:Illinois Central College – East Peoria Campus\, 1 College Drive\, East Peoria\, IL\, 61635\, United States
CATEGORIES:Community Event,Public Event,School Festival/Carnival,Sponsored Event
ATTACH;FMTTYPE=image/jpeg:https://expressionsbodyartdesign.com/wp-content/uploads/2025/05/ICC-WEB.jpg
END:VEVENT
BEGIN:VEVENT
DTSTART;TZID=America/Chicago:20260503T140000
DTEND;TZID=America/Chicago:20260503T190000
DTSTAMP:20260424T045023
CREATED:20260313T024247Z
LAST-MODIFIED:20260313T024247Z
UID:10000872-1777816800-1777834800@expressionsbodyartdesign.com
SUMMARY:Dungeons & Drafts: DESTIHL Renaissance Faire
DESCRIPTION:https://www.facebook.com/events/1233708284825426 \nStep into a world of fantasy\, fire\, and fine drafts in the Barrel Room at DESTIHL Beer Hall. Dungeons and Drafts is a Renaissance-themed market and gaming event filled with costumes\, vendors\, tabletop games\, and medieval-inspired fun for all experience levels.\n\nCome dressed as a wandering bard\, armored knight\, mysterious mage\, or curious commoner\, or just come as you are and enjoy the spectacle.\n\nEVENT SCHEDULE2:00pm – Doors open and market begins4:00pm – Courtyard Catwalk costume showcase7:00pm – Event concludes\nAdditional performances and music will be announced soon.\n\nVENDORS & ACTIVITIES\n\nRenaissance MarketBrowse a growing lineup of vendors offering themed goods\, crafts\, and curiosities.\n\nTabletop Gaming Hosted by Red Raccoon Games\nJoin a gaming table led by Red Raccoon Game Masters. Whether you are brand new or a seasoned adventurer\, all are welcome to sit down and play.\n\nCourtyard Catwalk Costume ShowcaseShow off your best Renaissance\, video game\, or TV-inspired look. Handcrafted\, assembled\, simple\, or elaborate\, all costumes and ages are welcome.\nAwards include \n\nBest in Show\nCrowd Favorite\nBest Performance\n\nEnjoy food features and specialty beverages available during the faire.\n\nMore vendors and activities will be revealed as the event approaches.\n\nDon your garb\, raise a tankard\, and join us for a day of dice\, drafts\, and Renaissance revelry at DESTIHL.
URL:https://expressionsbodyartdesign.com/event/dungeons26/
LOCATION:DESTIHL Brewery and Beer Hall\, 1200 Greenbriar Drive\, Normal\, IL\, 61761\, United States
CATEGORIES:Community Event,Craft and Vendor Shows,Family Event,Festival,Public Event,Restaurant/Bar,Vendor Show
ATTACH;FMTTYPE=image/jpeg:https://expressionsbodyartdesign.com/wp-content/uploads/2026/03/Knight.jpg
END:VEVENT
BEGIN:VEVENT
DTSTART;TZID=America/Chicago:20260502T230000
DTEND;TZID=America/Chicago:20260503T020000
DTSTAMP:20260424T045023
CREATED:20260305T202524Z
LAST-MODIFIED:20260305T202524Z
UID:10000845-1777762800-1777773600@expressionsbodyartdesign.com
SUMMARY:Private Event: Bloomington High School After Prom
DESCRIPTION:
URL:https://expressionsbodyartdesign.com/event/bhs-after-prom-2026/
LOCATION:Bloomington High School\, 1202 East Locust Street\, Bloomington\, IL\, 61701\, United States
CATEGORIES:High School After Prom,Sponsored Event
ATTACH;FMTTYPE=image/png:https://expressionsbodyartdesign.com/wp-content/uploads/2024/06/PrivateEvent-EBAD.png
END:VEVENT
BEGIN:VEVENT
DTSTART;TZID=America/Chicago:20260502T110000
DTEND;TZID=America/Chicago:20260502T150000
DTSTAMP:20260424T045023
CREATED:20260423T182815Z
LAST-MODIFIED:20260423T182815Z
UID:10000911-1777719600-1777734000@expressionsbodyartdesign.com
SUMMARY:3rd Annual Multicultural Fair 2026
DESCRIPTION:Join us for the 3rd Annual Multicultural Fair on Saturday\, May 2\, from 11 AM–3 PM at the Peoria Riverfront Museum!\nThis free\, family-friendly event celebrates our community’s diversity with live performances\, cultural activities\, vendors\, and food trucks.\n\nThis event continues to grow each year\, bringing our community together to celebrate cultures from around the world. Last year’s event welcomed over 100 international teachers representing 16 countries and hundreds of attendees\, featuring cultural performances\, food\, and interactive experiences for families.
URL:https://expressionsbodyartdesign.com/event/multicultural-fair-2026/
LOCATION:Peoria Riverfront Museum\, 222 SW Washington Street\, Peoria\, IL\, 61602\, United States
CATEGORIES:Community Event,Family Event,Festival,Public Event,Sponsored Event
ATTACH;FMTTYPE=image/jpeg:https://expressionsbodyartdesign.com/wp-content/uploads/2026/04/MCFair.jpg
END:VEVENT
BEGIN:VEVENT
DTSTART;TZID=America/Chicago:20260502T100000
DTEND;TZID=America/Chicago:20260502T150000
DTSTAMP:20260424T045023
CREATED:20260305T204040Z
LAST-MODIFIED:20260305T204040Z
UID:10000849-1777716000-1777734000@expressionsbodyartdesign.com
SUMMARY:Springle at Keller Station
DESCRIPTION:OFFERING FACE PAINTING\, GLITTER TATTOOS\, HENNA TATTOOS AND HAIR TINSEL!\n\nIt’s Kringle but in the Spring! (Get it?)\n\nJoin us Saturday\, May 2nd from 10am – 3pm for Springle – a vibrant spring celebration at Keller Station! Shop local artisans\, unique vendors\, and Keller Station businesses while enjoying delicious food\, entertainment\, and fun for the whole family.\n\nMake a day of it at beautiful Donovan Park and along the Rock Island Greenway.\nPerfect for a spring outing—and just in time to find something special for Mom before Mother’s Day!
URL:https://expressionsbodyartdesign.com/event/springle-at-keller-station-2/
LOCATION:Keller Station\, 6035 Knoxville Avenue\, Peoria\, IL\, 61614\, United States
CATEGORIES:Community Event,Family Event,Festival,Public Event
ATTACH;FMTTYPE=image/jpeg:https://expressionsbodyartdesign.com/wp-content/uploads/2026/03/springle2026-1.jpg
END:VEVENT
BEGIN:VEVENT
DTSTART;TZID=America/Chicago:20260502T090000
DTEND;TZID=America/Chicago:20260502T130000
DTSTAMP:20260424T045023
CREATED:20260423T180355Z
LAST-MODIFIED:20260423T180645Z
UID:10000891-1777712400-1777726800@expressionsbodyartdesign.com
SUMMARY:All Access Market
DESCRIPTION:Join us for 𝗔𝗹𝗹 𝗔𝗰𝗰𝗲𝘀𝘀 𝗠𝗮𝗿𝗸𝗲𝘁\, a fun and inclusive spring market at Lifelong Access! \n\nAll Access Market brings the community together for a vibrant day filled with local vendors\, unique art\, delicious food trucks\, and hands-on crafts for all ages.\n\nWhether you’re looking to shop\, create\, or simply enjoy the atmosphere\, there’s something for everyone to experience. Come connect\, explore\, and celebrate the energy of our community all in one place.\n\n 𝗠𝗮𝘆 𝟮\, 𝟮𝟬𝟮𝟲 | 𝟵𝗮𝗺-𝟭𝗽𝗺 𝗟𝗶𝗳𝗲𝗹𝗼𝗻𝗴 𝗔𝗰𝗰𝗲𝘀𝘀 | 𝟮𝟬𝟬𝟬 𝗝𝗮𝗰𝗼𝗯𝘀𝘀𝗲𝗻 𝗗𝗿\, 𝗡𝗼𝗿𝗺𝗮𝗹\, 𝗜𝗟
URL:https://expressionsbodyartdesign.com/event/all-access-market/
LOCATION:𝗟𝗶𝗳𝗲𝗹𝗼𝗻𝗴 𝗔𝗰𝗰𝗲𝘀𝘀\, 𝟮𝟬𝟬𝟬 𝗝𝗮𝗰𝗼𝗯𝘀𝘀𝗲𝗻 𝗗𝗿ive\, Normal\, IL\, 61761\, United States
CATEGORIES:Awareness,Community Event,Public Event
ATTACH;FMTTYPE=image/jpeg:https://expressionsbodyartdesign.com/wp-content/uploads/2026/04/All-Access-Market-Flyer.jpg
END:VEVENT
BEGIN:VEVENT
DTSTART;TZID=America/Chicago:20260502T073000
DTEND;TZID=America/Chicago:20260502T120000
DTSTAMP:20260424T045023
CREATED:20260423T181444Z
LAST-MODIFIED:20260423T181922Z
UID:10000899-1777707000-1777723200@expressionsbodyartdesign.com
SUMMARY:Downtown Bloomington Farmers' Market
DESCRIPTION:Our booth will be located on the corner of Jefferson and Center on the Square in Downtown Bloomington!
URL:https://expressionsbodyartdesign.com/event/dbfm-2026/2026-05-02/
LOCATION:Downtown Bloomington on the Square\, 200 N Main Street\, Bloomington\, IL\, 61701\, United States
CATEGORIES:Community Event,Family Event,Farmer's Market,Public Event
ATTACH;FMTTYPE=image/jpeg:https://expressionsbodyartdesign.com/wp-content/uploads/2025/04/IMG_7559.jpg
END:VEVENT
BEGIN:VEVENT
DTSTART;TZID=America/Chicago:20260501T210000
DTEND;TZID=America/Chicago:20260502T000000
DTSTAMP:20260424T045023
CREATED:20260423T173915Z
LAST-MODIFIED:20260423T173915Z
UID:10000886-1777669200-1777680000@expressionsbodyartdesign.com
SUMMARY:Late Night BU: Luau
DESCRIPTION:Late Night BU is a recurring\, alcohol-free\, and student-focused initiative at Bradley University that offers free entertainment\, food from local restaurants\, and\, activities like karaoke\, crafts\, and games\, often featuring unique themes or therapy dog visits. These\, monthly social events aim to create\, a fun and engaging\, environment for students. 
URL:https://expressionsbodyartdesign.com/event/late-night-bu-luau/
LOCATION:Bradley University\, 1501 W Bradley Avenue\, Peoria\, IL\, 61625\, United States
CATEGORIES:Private Event,School Festival/Carnival,Sponsored Event
ATTACH;FMTTYPE=image/jpeg:https://expressionsbodyartdesign.com/wp-content/uploads/2026/04/LateNightBU2.jpg
END:VEVENT
BEGIN:VEVENT
DTSTART;TZID=America/Chicago:20260501T170000
DTEND;TZID=America/Chicago:20260501T190000
DTSTAMP:20260424T045023
CREATED:20260423T175109Z
LAST-MODIFIED:20260423T175109Z
UID:10000889-1777654800-1777662000@expressionsbodyartdesign.com
SUMMARY:Private Event: Stevenson PTO Spring Carnival
DESCRIPTION:
URL:https://expressionsbodyartdesign.com/event/stevenson-pto-spring-carnival-2026/
LOCATION:Stevenson Elementary School\, 2106 Arrowhead Drive\, Bloomington\, IL\, 61704\, United States
CATEGORIES:Private Event,School Festival/Carnival
ATTACH;FMTTYPE=image/png:https://expressionsbodyartdesign.com/wp-content/uploads/2026/04/Stevenson_Elementary_School_logo_template_300.png
END:VEVENT
BEGIN:VEVENT
DTSTART;TZID=America/Chicago:20260501T170000
DTEND;TZID=America/Chicago:20260501T190000
DTSTAMP:20260424T045023
CREATED:20260423T174843Z
LAST-MODIFIED:20260423T174843Z
UID:10000888-1777654800-1777662000@expressionsbodyartdesign.com
SUMMARY:Private Event: Oakland Elementary Spring Carnival
DESCRIPTION:
URL:https://expressionsbodyartdesign.com/event/oakland-elementary-2026/
CATEGORIES:Private Event,School Festival/Carnival
ATTACH;FMTTYPE=image/png:https://expressionsbodyartdesign.com/wp-content/uploads/2025/03/Oakland_Elementary_School_logo_template_300.png
END:VEVENT
BEGIN:VEVENT
DTSTART;TZID=America/Chicago:20260501T160000
DTEND;TZID=America/Chicago:20260501T210000
DTSTAMP:20260424T045023
CREATED:20260423T175512Z
LAST-MODIFIED:20260423T184810Z
UID:10000890-1777651200-1777669200@expressionsbodyartdesign.com
SUMMARY:3rd Annual MayDay Open Market
DESCRIPTION:https://www.facebook.com/events/873564088838191/\nEvent by The Raven\, The Hare\, & The Scroll\n300 and 400 block Court St Pekin\, IL 61554\nDuration: 5 hr\nPublic  · Anyone on or off Facebook \n🌸✨ Celebrate Spring at the 3rd Annual MayDay Open Market! ✨🌸\nJoin us in Downtown Pekin for an enchanting evening market celebrating the return of warm nights\, blooming flowers\, and the joyful energy of spring — all under the glow of the Full Moon 🌕\nWander through a charming open-air market filled with unique vendors\, incredible handmade goods\, crystals\, candles\, curiosities\, herbs\, books\, and tarot. Enjoy live music all evening\, grab a bite from a food truck\, and explore offerings like tarot\, astrology\, and intuitive readings while you browse all the beautiful treasures waiting to be discovered.\nSoak in the cozy glow of downtown lights\, the lively festival atmosphere\, and the magic of a small-town night market as the sun sets and the evening comes alive.\n🌿 This is a celebration of creativity\, community\, and fresh beginnings.\nCome wander\, shop\, eat\, dance\, explore\, and soak in the good vibes. 🛍️\nPerfect for date night\, a friends’ night out\, or a family stroll downtown.\n✨ A festive evening in the heart of Downtown Pekin\n✨ Free to attend and open to everyone!\nCome welcome the season\, support small businesses\, and enjoy a truly magickal night out.
URL:https://expressionsbodyartdesign.com/event/3rd-annual-mayday-open-market/
CATEGORIES:Community Event,Festival,Public Event
END:VEVENT
BEGIN:VEVENT
DTSTART;TZID=America/Chicago:20260430T170000
DTEND;TZID=America/Chicago:20260430T193000
DTSTAMP:20260424T045023
CREATED:20260305T203521Z
LAST-MODIFIED:20260305T203521Z
UID:10000848-1777568400-1777577400@expressionsbodyartdesign.com
SUMMARY:Private Event: Wilder Waite Grade School PTO
DESCRIPTION:
URL:https://expressionsbodyartdesign.com/event/wilder-waite-pto-2026/
CATEGORIES:School Festival/Carnival,Sponsored Event
ATTACH;FMTTYPE=image/png:https://expressionsbodyartdesign.com/wp-content/uploads/2024/06/PrivateEvent-EBAD.png
END:VEVENT
BEGIN:VEVENT
DTSTART;TZID=America/Chicago:20260426T130000
DTEND;TZID=America/Chicago:20260426T140000
DTSTAMP:20260424T045023
CREATED:20260423T174610Z
LAST-MODIFIED:20260423T174610Z
UID:10000887-1777208400-1777212000@expressionsbodyartdesign.com
SUMMARY:Private Event: Birthday Party
DESCRIPTION:
URL:https://expressionsbodyartdesign.com/event/private-event-birthday-party-18/
CATEGORIES:Private Event,Sponsored Event
ATTACH;FMTTYPE=image/png:https://expressionsbodyartdesign.com/wp-content/uploads/2024/06/PrivateEvent-EBAD.png
END:VEVENT
BEGIN:VEVENT
DTSTART;TZID=America/Chicago:20260425T230000
DTEND;TZID=America/Chicago:20260426T020000
DTSTAMP:20260424T045023
CREATED:20260305T202635Z
LAST-MODIFIED:20260305T202635Z
UID:10000846-1777158000-1777168800@expressionsbodyartdesign.com
SUMMARY:Private Event: Mahomet-Seymour High School After Prom
DESCRIPTION:
URL:https://expressionsbodyartdesign.com/event/mahomet-seymour-hs-after-prom2026/
CATEGORIES:High School After Prom,Sponsored Event
ATTACH;FMTTYPE=image/png:https://expressionsbodyartdesign.com/wp-content/uploads/2024/06/PrivateEvent-EBAD.png
END:VEVENT
BEGIN:VEVENT
DTSTART;TZID=America/Chicago:20260425T150000
DTEND;TZID=America/Chicago:20260425T170000
DTSTAMP:20260424T045023
CREATED:20260305T203111Z
LAST-MODIFIED:20260305T204915Z
UID:10000847-1777129200-1777136400@expressionsbodyartdesign.com
SUMMARY:Drew's Plots 2026
DESCRIPTION:Drew’s Plots Inc.\nis Non Profit Organization that provides assistance with internment services for families in need during a time of crisis. \nhttps://www.drewsplots.com/\nhttps://www.facebook.com/drewsplots/ \nExpressions will be face painting from 3-5 PM  \nSPRING LOOSE!
URL:https://expressionsbodyartdesign.com/event/drews-plots-2026/
LOCATION:Three Sisters Park\, 17189 N. Route 29\, Chillicothe\, IL\, 61523\, United States
CATEGORIES:Fundraiser,Other,Public Event,Sponsored Event
ATTACH;FMTTYPE=image/jpeg:https://expressionsbodyartdesign.com/wp-content/uploads/2026/03/drewsplots2026.jpg
END:VEVENT
BEGIN:VEVENT
DTSTART;TZID=America/Chicago:20260425T100000
DTEND;TZID=America/Chicago:20260425T190000
DTSTAMP:20260424T045023
CREATED:20260305T214728Z
LAST-MODIFIED:20260305T215025Z
UID:10000866-1777111200-1777143600@expressionsbodyartdesign.com
SUMMARY:EIU Spring Fest 2026
DESCRIPTION:Join us for 3 days for the Eastern Illinois University Spring Fest in the quad. We will have our EIU students represented for all 3 days offering face painting\, glitter tattoos and henna!
URL:https://expressionsbodyartdesign.com/event/eiu-spring-fest-2026-2/
LOCATION:Eastern Illinois University\, 600 Lincoln Avenue\, Charleston\, IL\, 61920\, United States
CATEGORIES:Community Event,Festival,Public Event
ATTACH;FMTTYPE=image/jpeg:https://expressionsbodyartdesign.com/wp-content/uploads/2026/03/EIU-Spring-Fest-2026.jpg
END:VEVENT
BEGIN:VEVENT
DTSTART;TZID=America/Chicago:20260425T100000
DTEND;TZID=America/Chicago:20260425T170000
DTSTAMP:20260424T045023
CREATED:20260423T184931Z
LAST-MODIFIED:20260423T184931Z
UID:10000913-1777111200-1777136400@expressionsbodyartdesign.com
SUMMARY:MAY DAY FESTIVAL- A BELTANE CELEBRATION 2026
DESCRIPTION:MAY DAY FESTIVAL- A BELTANE CELEBRATION 2026!!\nAPRIL 25\, 202610 AM – 5PM\n100 BLOCK OF WEST MONROE STREET IN DOWNTOWN BLOOMINGTON ILLINOIS\nOFFERING:☆40 VENDORS☆LIVE MUSIC☆ A WISH BURNING CEREMONY☆ A FREE RAFFLE 
URL:https://expressionsbodyartdesign.com/event/may-day-festival-2026/
ATTACH;FMTTYPE=image/jpeg:https://expressionsbodyartdesign.com/wp-content/uploads/2026/04/MayDay.jpg
END:VEVENT
BEGIN:VEVENT
DTSTART;TZID=America/Chicago:20260424T100000
DTEND;TZID=America/Chicago:20260424T190000
DTSTAMP:20260424T045023
CREATED:20260305T214658Z
LAST-MODIFIED:20260305T215010Z
UID:10000867-1777024800-1777057200@expressionsbodyartdesign.com
SUMMARY:EIU Spring Fest 2026
DESCRIPTION:Join us for 3 days for the Eastern Illinois University Spring Fest in the quad. We will have our EIU students represented for all 3 days offering face painting\, glitter tattoos and henna!
URL:https://expressionsbodyartdesign.com/event/eiu-spring-fest-2026-3/
LOCATION:Eastern Illinois University\, 600 Lincoln Avenue\, Charleston\, IL\, 61920\, United States
CATEGORIES:Community Event,Festival,Public Event
ATTACH;FMTTYPE=image/jpeg:https://expressionsbodyartdesign.com/wp-content/uploads/2026/03/EIU-Spring-Fest-2026.jpg
END:VEVENT
END:VCALENDAR