BEGIN:VCALENDAR
VERSION:2.0
PRODID:-//Expressions Body Art and Design | Express Yourself with Face Painting, Glitter Tattoos, Henna, Hair Tinsel and More - ECPv6.15.20//NONSGML v1.0//EN
CALSCALE:GREGORIAN
METHOD:PUBLISH
X-WR-CALNAME:Expressions Body Art and Design | Express Yourself with Face Painting, Glitter Tattoos, Henna, Hair Tinsel and More
X-ORIGINAL-URL:https://expressionsbodyartdesign.com
X-WR-CALDESC:Events for Expressions Body Art and Design | Express Yourself with Face Painting, Glitter Tattoos, Henna, Hair Tinsel and More
REFRESH-INTERVAL;VALUE=DURATION:PT1H
X-Robots-Tag:noindex
X-PUBLISHED-TTL:PT1H
BEGIN:VTIMEZONE
TZID:America/Chicago
BEGIN:DAYLIGHT
TZOFFSETFROM:-0600
TZOFFSETTO:-0500
TZNAME:CDT
DTSTART:20230312T080000
END:DAYLIGHT
BEGIN:STANDARD
TZOFFSETFROM:-0500
TZOFFSETTO:-0600
TZNAME:CST
DTSTART:20231105T070000
END:STANDARD
BEGIN:DAYLIGHT
TZOFFSETFROM:-0600
TZOFFSETTO:-0500
TZNAME:CDT
DTSTART:20240310T080000
END:DAYLIGHT
BEGIN:STANDARD
TZOFFSETFROM:-0500
TZOFFSETTO:-0600
TZNAME:CST
DTSTART:20241103T070000
END:STANDARD
BEGIN:DAYLIGHT
TZOFFSETFROM:-0600
TZOFFSETTO:-0500
TZNAME:CDT
DTSTART:20250309T080000
END:DAYLIGHT
BEGIN:STANDARD
TZOFFSETFROM:-0500
TZOFFSETTO:-0600
TZNAME:CST
DTSTART:20251102T070000
END:STANDARD
END:VTIMEZONE
BEGIN:VEVENT
DTSTART;TZID=America/Chicago:20240525T110000
DTEND;TZID=America/Chicago:20240525T160000
DTSTAMP:20260423T053845
CREATED:20240523T203441Z
LAST-MODIFIED:20240523T203441Z
UID:10000182-1716634800-1716652800@expressionsbodyartdesign.com
SUMMARY:Memorial Weekend at Green Gables
DESCRIPTION:THREE DAY WEEKEND AHEAD! \nLook for Expressions Body Art & Design at Green Gables ALL Memorial Day Weekend offering face painting\, glitter tattoos\, henna tattoos and hair tinsel on Saturday\, Sunday and Monday 11 AM to 4 PM. We will be located in the back grassy area off the beer garden. Get your 40 Horse Limit draft or can brewed by Analytical Brewing\, order a legendary burger from Green Gables and EXPRESS YOURSELF with Expressions Body Art and Design. We will be launching our summer seasonal “Americana” designs this weekend as well!  \n#ExpressionsBodyArtDesign #ExpressYourself #HairTinsel #GlitterTattoos #FacePainting #HennaTattoos #FamilyFun #ThisisFUN #Gratitudeisourattitude #GreenGables #40HorseLimit #AnalyticalBrewing #HAMBURGERS
URL:https://expressionsbodyartdesign.com/event/green-gables-05252024/
LOCATION:Green Gables\, 17485 E 2500 North Rd N\, Hudson\, IL\, 61748\, United States
CATEGORIES:Other,Restaurant/Bar
ATTACH;FMTTYPE=image/jpeg:https://expressionsbodyartdesign.com/wp-content/uploads/2024/05/GreenGables-MemorialWeekend.jpg
END:VEVENT
BEGIN:VEVENT
DTSTART;TZID=America/Chicago:20240522T160000
DTEND;TZID=America/Chicago:20240522T190000
DTSTAMP:20260423T053845
CREATED:20240516T032647Z
LAST-MODIFIED:20240516T032647Z
UID:10000166-1716393600-1716404400@expressionsbodyartdesign.com
SUMMARY:Mahomet Market on Main
DESCRIPTION:JOIN US EVERY WEDNESDAY at the Mahomet Market on Main!\nMay 15th to August 14th 2024\nEach week we will be offering face painting and glitter tattoos. Some weeks we may also have henna tattoos and hair tinsel. \n\nLooking for good food\, amazing popcorn and some local craft vendors\, look no further than Mahomet Market! \n\nAdditional Information: Free parking availableFamily-friendly eventFree to attend \nJoin us for a delightful evening at Mahomet Market on Main! Can’t wait to see you there!\nhttps://www.facebook.com/mahometmarket/ \nThe Green Space on: 511 E Main St\, Mahomet\, IL 61853-3538
URL:https://expressionsbodyartdesign.com/event/mahomet-market-on-main-2/
LOCATION:Mahomet Market on Main\, 511 E Main Street\, Mahomet\, IL\, 61853-3538\, United States
CATEGORIES:Farmer's Market
ATTACH;FMTTYPE=image/jpeg:https://expressionsbodyartdesign.com/wp-content/uploads/2024/05/MahometMarketonMain.jpg
END:VEVENT
BEGIN:VEVENT
DTSTART;TZID=America/Chicago:20240521T160000
DTEND;TZID=America/Chicago:20240521T190000
DTSTAMP:20260423T053845
CREATED:20240516T033538Z
LAST-MODIFIED:20240516T033538Z
UID:10000175-1716307200-1716318000@expressionsbodyartdesign.com
SUMMARY:Private Event: The Baby Fold
DESCRIPTION:
URL:https://expressionsbodyartdesign.com/event/private-event-the-baby-fold/
LOCATION:IL
CATEGORIES:Private Event
END:VEVENT
BEGIN:VEVENT
DTSTART;TZID=America/Chicago:20240519T110000
DTEND;TZID=America/Chicago:20240519T180000
DTSTAMP:20260423T053845
CREATED:20240329T022907Z
LAST-MODIFIED:20240329T022926Z
UID:10000140-1716116400-1716141600@expressionsbodyartdesign.com
SUMMARY:The 34th Annual Iowa Metaphysical Fair
DESCRIPTION:34th Annual IA Metaphysical Fair\nMay 18-19\, 2024\nSaturday 11am – 8 pm\nSunday 11am – 6pm\nIn the 4H Building IA State Fairgrounds\nhttps://www.iowastatefairgrounds.org/buildings/bruce-l-rastetter-4-h-exhibits-building\n\nOver 100 booths bringing you the best of the best under one roof. Readers\, healers\, vendors and more. Take in amazing open galleries workshops and lectures as part of paid admission This event is run by a non-profit group that gives back to local charities. Keep checking FB page for ticket giveaways. Bring non perishable item for $1.00 off gate. \nExpressions will be offering Face Painting\, Glitter Tattoos and Henna Art
URL:https://expressionsbodyartdesign.com/event/the-34th-imf-2/
LOCATION:Iowa State Fairgrounds\, 3000 E Grand Avenue\, Des Moines\, IA\, 50317\, United States
CATEGORIES:Festival
ATTACH;FMTTYPE=image/jpeg:https://expressionsbodyartdesign.com/wp-content/uploads/2024/03/ai-generated-8639465_1920.jpg
END:VEVENT
BEGIN:VEVENT
DTSTART;TZID=America/Chicago:20240519T110000
DTEND;TZID=America/Chicago:20240519T160000
DTSTAMP:20260423T053845
CREATED:20240523T203057Z
LAST-MODIFIED:20240523T203057Z
UID:10000181-1716116400-1716134400@expressionsbodyartdesign.com
SUMMARY:Green Gables - REOPENING DAY!
DESCRIPTION:
URL:https://expressionsbodyartdesign.com/event/green-gables-reopening-day/
LOCATION:Green Gables\, 17485 E 2500 North Rd N\, Hudson\, IL\, 61748\, United States
CATEGORIES:Other,Restaurant/Bar
ATTACH;FMTTYPE=image/webp:https://expressionsbodyartdesign.com/wp-content/uploads/2024/05/Green-Gables-just-fish-and-gg.webp
END:VEVENT
BEGIN:VEVENT
DTSTART;TZID=America/Chicago:20240518T110000
DTEND;TZID=America/Chicago:20240518T200000
DTSTAMP:20260423T053845
CREATED:20240329T022409Z
LAST-MODIFIED:20240329T022831Z
UID:10000139-1716030000-1716062400@expressionsbodyartdesign.com
SUMMARY:The 34th Annual Iowa Metaphysical Fair
DESCRIPTION:34th Annual IA Metaphysical Fair\nMay 18-19 \nSaturday 11am – 8 pm\nSunday 11am – 6pm\nIn the 4H Building IA State Fairgrounds\nhttps://www.iowastatefairgrounds.org/buildings/bruce-l-rastetter-4-h-exhibits-building\n\nOver 100 booths bringing you the best of the best under one roof. Readers\, healers\, vendors and more. Take in amazing open galleries workshops and lectures as part of paid admission This event is run by a non-profit group that gives back to local charities. Keep checking FB page for ticket giveaways. Bring non perishable item for $1.00 off gate. \nExpressions will be offering Face Painting\, Glitter Tattoos and Henna Art
URL:https://expressionsbodyartdesign.com/event/the-34th-imf/
LOCATION:Iowa State Fairgrounds\, 3000 E Grand Avenue\, Des Moines\, IA\, 50317\, United States
CATEGORIES:Festival
ATTACH;FMTTYPE=image/jpeg:https://expressionsbodyartdesign.com/wp-content/uploads/2024/03/ai-generated-8639465_1920.jpg
END:VEVENT
BEGIN:VEVENT
DTSTART;TZID=America/Chicago:20240518T100000
DTEND;TZID=America/Chicago:20240518T170000
DTSTAMP:20260423T053845
CREATED:20240128T194204Z
LAST-MODIFIED:20240202T024212Z
UID:10000078-1716026400-1716051600@expressionsbodyartdesign.com
SUMMARY:All About the Mama (Pop Up Market)
DESCRIPTION:All About the Mama (Pop Up Market) \nFace Painting\, Glitter Tattoos\, Hair Tinsel \nSaturday\, May 18\, 2024\nFrom 10:00 AM to 5:00 PM \n@ The Big Red Barn\n32597 Hay Road\, Mackinaw\, IL 61755 \nhttps://www.facebook.com/bigredbarnrentals/
URL:https://expressionsbodyartdesign.com/event/pop-up-market-2024-1/
LOCATION:The Red Barn\, 32597 Hay Road\, Mackinaw\, IL\, 61755\, United States
CATEGORIES:Pop Up Market
ATTACH;FMTTYPE=image/jpeg:https://expressionsbodyartdesign.com/wp-content/uploads/2024/01/AllAboutMama-Ad.jpg
END:VEVENT
BEGIN:VEVENT
DTSTART;TZID=America/Chicago:20240518T100000
DTEND;TZID=America/Chicago:20240518T140000
DTSTAMP:20260423T053845
CREATED:20240306T200104Z
LAST-MODIFIED:20240306T200632Z
UID:10000110-1716026400-1716040800@expressionsbodyartdesign.com
SUMMARY:Crafts\, Drafts & More
DESCRIPTION:We are excited to be a part of another HARP EVENT with Crafts\, Drafts and MORE!!!! \nWe will be offering face painting\, glitter tattoos\, henna and hair tinsel.\n \nFACEBOOK EVENT: https://www.facebook.com/events/980303677148905/
URL:https://expressionsbodyartdesign.com/event/crafts-drafts-more/
LOCATION:Tailgater’s Pub [LeRoy\, IL]\, 509 N West Street\, LeRoy\, IL\, 61752\, United States
CATEGORIES:Craft and Vendor Shows
ATTACH;FMTTYPE=image/png:https://expressionsbodyartdesign.com/wp-content/uploads/2024/03/Screenshot-2024-03-06-135858.png
END:VEVENT
BEGIN:VEVENT
DTSTART;TZID=America/Chicago:20240517T180000
DTEND;TZID=America/Chicago:20240517T210000
DTSTAMP:20260423T053845
CREATED:20240516T030601Z
LAST-MODIFIED:20240516T030601Z
UID:10000164-1715968800-1715979600@expressionsbodyartdesign.com
SUMMARY:District 87: Cultural Fair: Around the World
DESCRIPTION:Expressions Artist Karla Bailey-Smith will be offering Face Painting at this event!!!! Karla is a mom of a senior at BHS and very active with the school. We are so happy and proud to have her at this event! \n🌍✈️We are excited to invite you to our district-wide Cultural Fair on May 17th at 6pm\, hosted at BHS. The theme- “Around the World”- will whisk you away to different corners of the earth! This entire event is student-organized and put together by students who belong to NOIS (Not In Our School) ! 🙌🎓 🎭🍲 Highlights include: *Interactive games and activities 🎲 *Food from various cultures 🥘 *Exciting prizes to be won 🏆 *Live performances 🎤 *A “passport” program\, allowing you to collect stamps as you explore each country 🌐 The goal of the NOIS is to promote cultural awareness and understanding\, foster empathy and inclusivity\, and offer a fun yet educational experience. Don’t miss this incredible opportunity to celebrate diversity and unity within our district\, we hope to see you there! 🌟🤝 \n #CulturalFair #AroundTheWorld #StudentOrganized #DiversityandInclusion #WeAreD87 \nhttps://www.district87.org/
URL:https://expressionsbodyartdesign.com/event/d87culturalfairnois-2024/
LOCATION:Bloomington High School\, 1202 East Locust Street\, Bloomington\, IL\, 61701\, United States
CATEGORIES:School Festival/Carnival
ATTACH;FMTTYPE=image/png:https://expressionsbodyartdesign.com/wp-content/uploads/2024/05/large_Stamp_Here.png
END:VEVENT
BEGIN:VEVENT
DTSTART;TZID=America/Chicago:20240516T160000
DTEND;TZID=America/Chicago:20240516T190000
DTSTAMP:20260423T053845
CREATED:20240301T153157Z
LAST-MODIFIED:20240301T153216Z
UID:10000106-1715875200-1715886000@expressionsbodyartdesign.com
SUMMARY:City of Peoria Department of Public Works / Construction Open House
DESCRIPTION:
URL:https://expressionsbodyartdesign.com/event/cpd-publicworks-2024/
LOCATION:City of Peoria Department of Public Works\, 3505 N Dries Lane\, Peoria\, IL\, 61604\, United States
CATEGORIES:Sponsored Event
ATTACH;FMTTYPE=image/png:https://expressionsbodyartdesign.com/wp-content/uploads/2024/03/PeoriaPublicWorks-e1709307052551.png
END:VEVENT
BEGIN:VEVENT
DTSTART;TZID=America/Chicago:20240515T160000
DTEND;TZID=America/Chicago:20240515T190000
DTSTAMP:20260423T053845
CREATED:20240516T031758Z
LAST-MODIFIED:20240516T032548Z
UID:10000165-1715788800-1715799600@expressionsbodyartdesign.com
SUMMARY:Mahomet Market on Main
DESCRIPTION:JOIN US EVERY WEDNESDAY at the Mahomet Market on Main!\nMay 15th to August 14th 2024\nEach week we will be offering face painting and glitter tattoos. Some weeks we may also have henna tattoos and hair tinsel. \n\nLooking for good food\, amazing popcorn and some local craft vendors\, look no further than Mahomet Market! \n\nAdditional Information: Free parking availableFamily-friendly eventFree to attend \nJoin us for a delightful evening at Mahomet Market on Main! Can’t wait to see you there!\nhttps://www.facebook.com/mahometmarket/ \nThe Green Space on: 511 E Main St\, Mahomet\, IL 61853-3538
URL:https://expressionsbodyartdesign.com/event/mahomet-market-on-main/
LOCATION:Mahomet Market on Main\, 511 E Main Street\, Mahomet\, IL\, 61853-3538\, United States
CATEGORIES:Farmer's Market
ATTACH;FMTTYPE=image/jpeg:https://expressionsbodyartdesign.com/wp-content/uploads/2024/05/MahometMarketonMain.jpg
END:VEVENT
BEGIN:VEVENT
DTSTART;TZID=America/Chicago:20240514T173000
DTEND;TZID=America/Chicago:20240514T193000
DTSTAMP:20260423T053845
CREATED:20240516T033418Z
LAST-MODIFIED:20240516T033418Z
UID:10000174-1715707800-1715715000@expressionsbodyartdesign.com
SUMMARY:Private Event: Children's Home Association of Illinois
DESCRIPTION:
URL:https://expressionsbodyartdesign.com/event/private-event-childrens-home-association-of-illinois/
LOCATION:IL
CATEGORIES:Private Event
END:VEVENT
BEGIN:VEVENT
DTSTART;TZID=America/Chicago:20240512T090000
DTEND;TZID=America/Chicago:20240512T150000
DTSTAMP:20260423T053845
CREATED:20240429T184722Z
LAST-MODIFIED:20240429T184951Z
UID:10000151-1715504400-1715526000@expressionsbodyartdesign.com
SUMMARY:Central Illinois Flea Market
DESCRIPTION:Every 2nd Sunday from May to October you can find Expressions Body Art and Design offering face painting along with glitter and henna tattoos! \nCentral Illinois Flea Market\nEvery 2nd Sunday\n9:00 AM to 3:00 PM\nPeoria Speedway\n3520 W Farmington Rd\, Peoria\, IL 61604
URL:https://expressionsbodyartdesign.com/event/central-illinois-flea-market-1/
LOCATION:Peoria Speedway\, 3520 W Farmington Road\, Peoria\, IL\, 61604\, United States
CATEGORIES:Flea Market,Vendor Show
ATTACH;FMTTYPE=image/jpeg:https://expressionsbodyartdesign.com/wp-content/uploads/2024/04/CentralIllinoisFleaMarket2.jpg
END:VEVENT
BEGIN:VEVENT
DTSTART;TZID=America/Chicago:20240507T170000
DTEND;TZID=America/Chicago:20240507T170000
DTSTAMP:20260423T053845
CREATED:20240507T215531Z
LAST-MODIFIED:20240507T215612Z
UID:10000163-1715101200-1715101200@expressionsbodyartdesign.com
SUMMARY:Trivia Night/Ladies Night with Henna
DESCRIPTION:Join Lauren at Analytical Brewing in Lexington on\nTuesday\, May 7th starting at 5:00 PM for henna tattoos along with planned ladies night at the brewery!
URL:https://expressionsbodyartdesign.com/event/analytical-brewing-ladies-night/
LOCATION:Analytical Brewing\, 510 W Main Street\, Lexington\, IL\, 61753\, United States
CATEGORIES:Ladies Night
ATTACH;FMTTYPE=image/jpeg:https://expressionsbodyartdesign.com/wp-content/uploads/2024/05/LadiesNight.jpg
END:VEVENT
BEGIN:VEVENT
DTSTART;TZID=America/Chicago:20240505T123000
DTEND;TZID=America/Chicago:20240505T170000
DTSTAMP:20260423T053845
CREATED:20240420T022731Z
LAST-MODIFIED:20240420T023154Z
UID:10000148-1714912200-1714928400@expressionsbodyartdesign.com
SUMMARY:Unit 5K Race
DESCRIPTION:Expressions will be set up offering face painting and customized glitter tattoos! \nDescription \n\n\nSupport the Unit 5 Educational Foundation by participating in the 3rd Annual Unit 5k presented by Commerce Bank. Choose to participate in the 5k or one mile walk/run. Race t-shirts guaranteed if registered by April 17. Race will take place on cross country grass course. Sign up today and show your pride for Unit 5 schools!  https://runsignup.com/Race/Events/IL/Normal/Unit5k
URL:https://expressionsbodyartdesign.com/event/unit-5k-race/
LOCATION:Maxwell Park\, 501 N. Parkside Road\, Normal\, IL\, 61761\, United States
CATEGORIES:Other,Sporting Event
ATTACH;FMTTYPE=image/png:https://expressionsbodyartdesign.com/wp-content/uploads/2024/04/race126832-logo.bInnR0_.png
END:VEVENT
BEGIN:VEVENT
DTSTART;TZID=America/Chicago:20240504T160000
DTEND;TZID=America/Chicago:20240504T200000
DTSTAMP:20260423T053845
CREATED:20240430T015456Z
LAST-MODIFIED:20240430T015600Z
UID:10000161-1714838400-1714852800@expressionsbodyartdesign.com
SUMMARY:Analytical Brewery: Red Carpet Corridor
DESCRIPTION:Analytical Brewery: Red Carpet Corridor  \nJoin us on Saturday\, May 4th in Lexington at Analytical Brewery to celebrate the Red Carpet Corridor! \nWe will be offering face painting\, glitter tattoos and henna tattoos from 4:00 to 8:00 PM.
URL:https://expressionsbodyartdesign.com/event/analytical-brewery-1/
LOCATION:Analytical Brewing\, 510 W Main Street\, Lexington\, IL\, 61753\, United States
ATTACH;FMTTYPE=image/jpeg:https://expressionsbodyartdesign.com/wp-content/uploads/2024/04/images.jpg
END:VEVENT
BEGIN:VEVENT
DTSTART;TZID=America/Chicago:20240504T120000
DTEND;TZID=America/Chicago:20240504T150000
DTSTAMP:20260423T053845
CREATED:20240429T202024Z
LAST-MODIFIED:20240429T202024Z
UID:10000158-1714824000-1714834800@expressionsbodyartdesign.com
SUMMARY:Peoria Public Schools: Multicultural Fair
DESCRIPTION:Peoria Public Schools: Multicultural Fair \nThe Peoria Public Schools are putting on a Multicultural Fair from NOON to 3:00 on Saturday\, May 4th at the Peoria Riverfront Museum. We are so honored to be a part of this event offering face painting\, glitter tattoos and henna tattoos! \nPeoria Riverfront Museum\, 222 SW Washington St\, Peoria\, IL 61602\, USA
URL:https://expressionsbodyartdesign.com/event/multicultural-fair/
LOCATION:Peoria Riverfront Museum\, 222 SW Washington Street\, Peoria\, IL\, 61602\, United States
CATEGORIES:Sponsored Event
ATTACH;FMTTYPE=image/jpeg:https://expressionsbodyartdesign.com/wp-content/uploads/2024/03/PRMphotoDomeMuseumREV-WEB.jpg
END:VEVENT
BEGIN:VEVENT
DTSTART;TZID=America/Chicago:20240504T090000
DTEND;TZID=America/Chicago:20240504T150000
DTSTAMP:20260423T053845
CREATED:20240227T193722Z
LAST-MODIFIED:20240227T194353Z
UID:10000097-1714813200-1714834800@expressionsbodyartdesign.com
SUMMARY:Finders Spring Market
DESCRIPTION:Finders Market \nWe will be offering face painting\, glitter tattoos and henna tattoos at all three markets! \nSpring Market: May 4: 9 AM to 3 PM\nHarvest Market: September 14: 9 AM to 3 PM\nHoliday Market: November 16: 9 AM to 3 PM \nMarket Saturday Hours are 9 AM to 3 PM. \nFinders Market is open rain or shine. \nFacebook Spring Event: https://www.facebook.com/events/273203929060482/
URL:https://expressionsbodyartdesign.com/event/finders-spring-market/
LOCATION:Progress City USA\, E Sixth Progress Street\, Decatur\, 62521\, United States
CATEGORIES:Finders Market
ATTACH;FMTTYPE=image/jpeg:https://expressionsbodyartdesign.com/wp-content/uploads/2024/02/Finders-Market-e1709062708262.jpg
END:VEVENT
BEGIN:VEVENT
DTSTART;TZID=America/Chicago:20240503T170000
DTEND;TZID=America/Chicago:20240503T190000
DTSTAMP:20260423T053845
CREATED:20240430T195249Z
LAST-MODIFIED:20240430T200634Z
UID:10000162-1714755600-1714762800@expressionsbodyartdesign.com
SUMMARY:Pop-Up Market @ The Bistro
DESCRIPTION:Pop-Up Market @ The Bistro\nKarla and Lauren will be offering face painting and henna tattoos at The Bistro starting at 5:00!\nThey may end at 7:00\, or they may not\, that depends entirely on YOU! \n\n\nGo show them some love by EXPRESSING YOURSELF with face/body paint or henna tattoos!\nThank you to The Bistro for having us there! 
URL:https://expressionsbodyartdesign.com/event/pop-up-market-the-bistro/
LOCATION:The Bistro\, 316 N Main Street\, Bloomington\, 61701\, United States
CATEGORIES:Pop Up Market
ATTACH;FMTTYPE=image/webp:https://expressionsbodyartdesign.com/wp-content/uploads/2024/04/bistro.webp
END:VEVENT
BEGIN:VEVENT
DTSTART;TZID=America/Chicago:20240428T100000
DTEND;TZID=America/Chicago:20240428T150000
DTSTAMP:20260423T053845
CREATED:20240208T031227Z
LAST-MODIFIED:20240208T031509Z
UID:10000084-1714298400-1714316400@expressionsbodyartdesign.com
SUMMARY:3rd Annual Kiwi’s Market
DESCRIPTION:https://www.facebook.com/events/738408971504002 \nOffering face painting\, glitter tattoos and henna tattoos! \nCountryside Banquet Facility\n659 School St\, Washington\, IL 61571 \n 
URL:https://expressionsbodyartdesign.com/event/3rd-annual-kiwis-market/
LOCATION:Countryside Banquet Facility\, 659 School Street\, Washington\, IL\, 61571\, United States
ATTACH;FMTTYPE=image/jpeg:https://expressionsbodyartdesign.com/wp-content/uploads/2024/02/FleaMarket.jpg
END:VEVENT
BEGIN:VEVENT
DTSTART;TZID=America/Chicago:20240427T230000
DTEND;TZID=America/Chicago:20240428T030000
DTSTAMP:20260423T053845
CREATED:20240306T194004Z
LAST-MODIFIED:20240306T194027Z
UID:10000109-1714258800-1714273200@expressionsbodyartdesign.com
SUMMARY:Private Event: High School After Prom
DESCRIPTION:
URL:https://expressionsbodyartdesign.com/event/private-event-hs-after-prom2/
LOCATION:IL
CATEGORIES:High School After Prom,Sponsored Event
END:VEVENT
BEGIN:VEVENT
DTSTART;TZID=America/Chicago:20240427T163000
DTEND;TZID=America/Chicago:20240427T180000
DTSTAMP:20260423T053845
CREATED:20240419T035928Z
LAST-MODIFIED:20240419T035928Z
UID:10000146-1714235400-1714240800@expressionsbodyartdesign.com
SUMMARY:Private Event: Birthday Party
DESCRIPTION:
URL:https://expressionsbodyartdesign.com/event/private-event-birthday-party-8/
LOCATION:IL
CATEGORIES:Private Event
END:VEVENT
BEGIN:VEVENT
DTSTART;TZID=America/Chicago:20240427T153000
DTEND;TZID=America/Chicago:20240427T173000
DTSTAMP:20260423T053845
CREATED:20240429T183443Z
LAST-MODIFIED:20240429T183443Z
UID:10000150-1714231800-1714239000@expressionsbodyartdesign.com
SUMMARY:Unit 5 Hudson Elementary School
DESCRIPTION:
URL:https://expressionsbodyartdesign.com/event/unit-5-hudson/
LOCATION:IL
CATEGORIES:Sponsored Event
ATTACH;FMTTYPE=image/jpeg:https://expressionsbodyartdesign.com/wp-content/uploads/2024/04/Unit-5-Hudson-Elementary-School.jpg
END:VEVENT
BEGIN:VEVENT
DTSTART;TZID=America/Chicago:20240427T150000
DTEND;TZID=America/Chicago:20240427T180000
DTSTAMP:20260423T053845
CREATED:20240329T021505Z
LAST-MODIFIED:20240329T021505Z
UID:10000138-1714230000-1714240800@expressionsbodyartdesign.com
SUMMARY:Private Event: Birthday Party
DESCRIPTION:
URL:https://expressionsbodyartdesign.com/event/private-event-birthday-party-5/
LOCATION:IL
CATEGORIES:Private Event
END:VEVENT
BEGIN:VEVENT
DTSTART;TZID=America/Chicago:20240427T113000
DTEND;TZID=America/Chicago:20240427T143000
DTSTAMP:20260423T053845
CREATED:20240214T003112Z
LAST-MODIFIED:20240214T003138Z
UID:10000085-1714217400-1714228200@expressionsbodyartdesign.com
SUMMARY:Kid's Zone [Sponsored by Busey Bank] at the Christie Clinic Illinois Marathon
DESCRIPTION:Kid’s Zone [Sponsored by Busey Bank]\nat the Christie Clinic Illinois Marathon \nJoin us in the Kids Zone at the 2024 Illinois Marathon from 11:30 AM to 2:30 PM for FACE PAINTING!\nThe KIDS YOUTH RUN begins at 3:00 PM! \nhttps://illinoismarathon.com/races/youthrun/
URL:https://expressionsbodyartdesign.com/event/busey-bank-kids-zone-2024/
LOCATION:University of Illinois – Urbana/Champaign\, Champaign\, IL\, 61820\, United States
CATEGORIES:Sponsored Event
ATTACH;FMTTYPE=image/jpeg:https://expressionsbodyartdesign.com/wp-content/uploads/2024/02/ILLmarathonV.jpg
END:VEVENT
BEGIN:VEVENT
DTSTART;TZID=America/Chicago:20240427T100000
DTEND;TZID=America/Chicago:20240427T150000
DTSTAMP:20260423T053845
CREATED:20240419T040947Z
LAST-MODIFIED:20240419T041518Z
UID:10000147-1714212000-1714230000@expressionsbodyartdesign.com
SUMMARY:Book Rack Books & Gifts
DESCRIPTION:In Celebration of National Independent Book Store Day! Theme this year is THE WIZARD OF OZ \nOak Cliff Shopping Center\, 4408 Knoxville Ave #2C\, Peoria\, IL 61614\n10:00 AM to 3:00 PM
URL:https://expressionsbodyartdesign.com/event/book-rack-books-gifts/
LOCATION:IL
CATEGORIES:Other
ATTACH;FMTTYPE=image/png:https://expressionsbodyartdesign.com/wp-content/uploads/2024/04/Screenshot-2024-04-18-231104.png
END:VEVENT
BEGIN:VEVENT
DTSTART;TZID=America/Chicago:20240427T100000
DTEND;TZID=America/Chicago:20240427T140000
DTSTAMP:20260423T053845
CREATED:20240429T183202Z
LAST-MODIFIED:20240429T183239Z
UID:10000149-1714212000-1714226400@expressionsbodyartdesign.com
SUMMARY:Illinois Prairie District Public Library
DESCRIPTION:
URL:https://expressionsbodyartdesign.com/event/illinois-prairie-library/
LOCATION:IL
CATEGORIES:Sponsored Event
ATTACH;FMTTYPE=image/jpeg:https://expressionsbodyartdesign.com/wp-content/uploads/2024/04/Illinois-Prairie-District-Public-Library.jpg
END:VEVENT
BEGIN:VEVENT
DTSTART;TZID=America/Chicago:20240426T170000
DTEND;TZID=America/Chicago:20240426T190000
DTSTAMP:20260423T053845
CREATED:20240306T192727Z
LAST-MODIFIED:20240306T192727Z
UID:10000107-1714150800-1714158000@expressionsbodyartdesign.com
SUMMARY:Private Event: PTO Spring Carnival
DESCRIPTION:
URL:https://expressionsbodyartdesign.com/event/private-event-pto-spring-carnival/
LOCATION:IL
CATEGORIES:School Festival/Carnival,Sponsored Event
END:VEVENT
BEGIN:VEVENT
DTSTART;TZID=America/Chicago:20240421T153000
DTEND;TZID=America/Chicago:20240421T173000
DTSTAMP:20260423T053845
CREATED:20240419T035634Z
LAST-MODIFIED:20240419T035634Z
UID:10000145-1713713400-1713720600@expressionsbodyartdesign.com
SUMMARY:Private Event: Birthday Party
DESCRIPTION:
URL:https://expressionsbodyartdesign.com/event/private-event-birthday-party-7/
LOCATION:IL
CATEGORIES:Private Event
END:VEVENT
BEGIN:VEVENT
DTSTART;TZID=America/Chicago:20240421T110000
DTEND;TZID=America/Chicago:20240421T170000
DTSTAMP:20260423T053845
CREATED:20240419T035448Z
LAST-MODIFIED:20240419T035448Z
UID:10000143-1713697200-1713718800@expressionsbodyartdesign.com
SUMMARY:Virginia White's Craft and Vendor Show
DESCRIPTION:
URL:https://expressionsbodyartdesign.com/event/virginia-white-2/
LOCATION:Northwoods Mall\, 2200 W War Memorial Drive\, Peoria\, IL\, 61613\, United States
ATTACH;FMTTYPE=image/webp:https://expressionsbodyartdesign.com/wp-content/uploads/2024/04/Northwoods-Mall.webp
END:VEVENT
END:VCALENDAR