BEGIN:VCALENDAR
VERSION:2.0
PRODID:-//Expressions Body Art and Design | Express Yourself with Face Painting, Glitter Tattoos, Henna, Hair Tinsel and More - ECPv6.15.20//NONSGML v1.0//EN
CALSCALE:GREGORIAN
METHOD:PUBLISH
X-WR-CALNAME:Expressions Body Art and Design | Express Yourself with Face Painting, Glitter Tattoos, Henna, Hair Tinsel and More
X-ORIGINAL-URL:https://expressionsbodyartdesign.com
X-WR-CALDESC:Events for Expressions Body Art and Design | Express Yourself with Face Painting, Glitter Tattoos, Henna, Hair Tinsel and More
REFRESH-INTERVAL;VALUE=DURATION:PT1H
X-Robots-Tag:noindex
X-PUBLISHED-TTL:PT1H
BEGIN:VTIMEZONE
TZID:America/Chicago
BEGIN:DAYLIGHT
TZOFFSETFROM:-0600
TZOFFSETTO:-0500
TZNAME:CDT
DTSTART:20230312T080000
END:DAYLIGHT
BEGIN:STANDARD
TZOFFSETFROM:-0500
TZOFFSETTO:-0600
TZNAME:CST
DTSTART:20231105T070000
END:STANDARD
BEGIN:DAYLIGHT
TZOFFSETFROM:-0600
TZOFFSETTO:-0500
TZNAME:CDT
DTSTART:20240310T080000
END:DAYLIGHT
BEGIN:STANDARD
TZOFFSETFROM:-0500
TZOFFSETTO:-0600
TZNAME:CST
DTSTART:20241103T070000
END:STANDARD
BEGIN:DAYLIGHT
TZOFFSETFROM:-0600
TZOFFSETTO:-0500
TZNAME:CDT
DTSTART:20250309T080000
END:DAYLIGHT
BEGIN:STANDARD
TZOFFSETFROM:-0500
TZOFFSETTO:-0600
TZNAME:CST
DTSTART:20251102T070000
END:STANDARD
END:VTIMEZONE
BEGIN:VEVENT
DTSTART;TZID=America/Chicago:20240614T170000
DTEND;TZID=America/Chicago:20240614T190000
DTSTAMP:20260419T132405
CREATED:20240613T223838Z
LAST-MODIFIED:20240618T182239Z
UID:10000201-1718384400-1718391600@expressionsbodyartdesign.com
SUMMARY:Private Event: FCI Pekin Employee Appreciation
DESCRIPTION:
URL:https://expressionsbodyartdesign.com/event/fci-pekin-employee-event/
LOCATION:IL
CATEGORIES:Sponsored Event
END:VEVENT
BEGIN:VEVENT
DTSTART;TZID=America/Chicago:20240612T160000
DTEND;TZID=America/Chicago:20240612T190000
DTSTAMP:20260419T132405
CREATED:20240516T032917Z
LAST-MODIFIED:20240516T032917Z
UID:10000169-1718208000-1718218800@expressionsbodyartdesign.com
SUMMARY:Mahomet Market on Main
DESCRIPTION:JOIN US EVERY WEDNESDAY at the Mahomet Market on Main!\nMay 15th to August 14th 2024\nEach week we will be offering face painting and glitter tattoos. Some weeks we may also have henna tattoos and hair tinsel. \n\nLooking for good food\, amazing popcorn and some local craft vendors\, look no further than Mahomet Market! \n\nAdditional Information: Free parking availableFamily-friendly eventFree to attend \nJoin us for a delightful evening at Mahomet Market on Main! Can’t wait to see you there!\nhttps://www.facebook.com/mahometmarket/ \nThe Green Space on: 511 E Main St\, Mahomet\, IL 61853-3538
URL:https://expressionsbodyartdesign.com/event/mahomet-market-on-main-5/
LOCATION:Mahomet Market on Main\, 511 E Main Street\, Mahomet\, IL\, 61853-3538\, United States
CATEGORIES:Farmer's Market
ATTACH;FMTTYPE=image/jpeg:https://expressionsbodyartdesign.com/wp-content/uploads/2024/05/MahometMarketonMain.jpg
END:VEVENT
BEGIN:VEVENT
DTSTART;TZID=America/Chicago:20240609T130000
DTEND;TZID=America/Chicago:20240609T150000
DTSTAMP:20260419T132405
CREATED:20240531T201738Z
LAST-MODIFIED:20240531T201738Z
UID:10000192-1717938000-1717945200@expressionsbodyartdesign.com
SUMMARY:HOI T.O.U.C.H. Heart Walk [Peoria]
DESCRIPTION:
URL:https://expressionsbodyartdesign.com/event/hoi-t-o-u-c-h-heart-walk-peoria/
LOCATION:IL
CATEGORIES:Community Event,Sponsored Event
END:VEVENT
BEGIN:VEVENT
DTSTART;TZID=America/Chicago:20240609T120000
DTEND;TZID=America/Chicago:20240609T190000
DTSTAMP:20260419T132405
CREATED:20240229T173459Z
LAST-MODIFIED:20240229T173459Z
UID:10000104-1717934400-1717959600@expressionsbodyartdesign.com
SUMMARY:Hippie Fest 2024
DESCRIPTION:Hippie Fest 2024 \nWe are BEYOND excited to be a part of the Michigan HIPPIE FEST 2024!!!\nWe will be offering face painting\, body painting\, glitter tattoos\, henna tattoos and hair tinsel!\nLearn more: https://www.hippiefest.org/ \n  \nTreetoad Family Farm\n1650 N Johnson Rd Trufant\, MI 49347 \nSaturday\, June 8th: NOON to 7:00 PM\nSunday\, June 9th: NOON to 7:00 PM\nGet your tickets here: https://www.eventbrite.com/e/hippie-fest-michigan-tickets-756493872537
URL:https://expressionsbodyartdesign.com/event/hippie-fest-2024-2/
LOCATION:IL
CATEGORIES:Festival
ATTACH;FMTTYPE=image/jpeg:https://expressionsbodyartdesign.com/wp-content/uploads/2024/02/HippieFEST.jpg
END:VEVENT
BEGIN:VEVENT
DTSTART;TZID=America/Chicago:20240609T120000
DTEND;TZID=America/Chicago:20240609T150000
DTSTAMP:20260419T132405
CREATED:20240222T040107Z
LAST-MODIFIED:20240222T040107Z
UID:10000090-1717934400-1717945200@expressionsbodyartdesign.com
SUMMARY:LeRoy Farmer's Market
DESCRIPTION:LeRoy Farmer’s Market 2024 \nYou will find Expressions Body Art and Design at the LeRoy Farmer’s Market\nevery Sunday from May 26th to October 13th from NOON to 3:00 PM.   \nWe offer face painting\, glitter tattoos\, henna tattoos and hair tinsel. 
URL:https://expressionsbodyartdesign.com/event/leroy-farmers-market-3/
LOCATION:LeRoy’s Farmer’s Market\, 101 West Center Street\, LeRoy\, IL\, 61752\, United States
CATEGORIES:Farmer's Market
ATTACH;FMTTYPE=image/jpeg:https://expressionsbodyartdesign.com/wp-content/uploads/2024/02/LeroysFarmersMarket-e1708574321353.jpg
END:VEVENT
BEGIN:VEVENT
DTSTART;TZID=America/Chicago:20240609T090000
DTEND;TZID=America/Chicago:20240609T150000
DTSTAMP:20260419T132405
CREATED:20240429T185058Z
LAST-MODIFIED:20240429T185058Z
UID:10000152-1717923600-1717945200@expressionsbodyartdesign.com
SUMMARY:Central Illinois Flea Market
DESCRIPTION:Every 2nd Sunday from May to October you can find Expressions Body Art and Design offering face painting along with glitter and henna tattoos! \nCentral Illinois Flea Market\nEvery 2nd Sunday\n9:00 AM to 3:00 PM\nPeoria Speedway\n3520 W Farmington Rd\, Peoria\, IL 61604
URL:https://expressionsbodyartdesign.com/event/central-illinois-flea-market-2/
LOCATION:Peoria Speedway\, 3520 W Farmington Road\, Peoria\, IL\, 61604\, United States
CATEGORIES:Flea Market,Vendor Show
ATTACH;FMTTYPE=image/jpeg:https://expressionsbodyartdesign.com/wp-content/uploads/2024/04/CentralIllinoisFleaMarket2.jpg
END:VEVENT
BEGIN:VEVENT
DTSTART;TZID=America/Chicago:20240608T140000
DTEND;TZID=America/Chicago:20240608T160000
DTSTAMP:20260419T132405
CREATED:20240308T023213Z
LAST-MODIFIED:20240308T023213Z
UID:10000111-1717855200-1717862400@expressionsbodyartdesign.com
SUMMARY:Chillicothe Public Library: Summer Celebration/Summer Reading Kick-off
DESCRIPTION:Summer Celebration/Summer Reading Kick-off  \nOffering face painting from 2:00-4:00 PM\nChillicothe Public Library\, 430 N Bradley Ave\, Chillicothe\, IL 61523
URL:https://expressionsbodyartdesign.com/event/cpl-summer-kickoff-2024/
LOCATION:Chillicothe Public Library\, 430 N Bradley Avenue\, Chillicothe\, IL\, 61523\, United States
CATEGORIES:Sponsored Event
ATTACH;FMTTYPE=image/jpeg:https://expressionsbodyartdesign.com/wp-content/uploads/2024/03/CPLD-FrontBuilding.jpg
END:VEVENT
BEGIN:VEVENT
DTSTART;TZID=America/Chicago:20240608T120000
DTEND;TZID=America/Chicago:20240608T190000
DTSTAMP:20260419T132405
CREATED:20240229T170828Z
LAST-MODIFIED:20240229T173425Z
UID:10000103-1717848000-1717873200@expressionsbodyartdesign.com
SUMMARY:Hippie Fest 2024
DESCRIPTION:Hippie Fest 2024 \nWe are BEYOND excited to be a part of the Michigan HIPPIE FEST 2024!!!\nWe will be offering face painting\, body painting\, glitter tattoos\, henna tattoos and hair tinsel!\nLearn more: https://www.hippiefest.org/ \n  \nTreetoad Family Farm\n1650 N Johnson Rd Trufant\, MI 49347 \nSaturday\, June 8th: NOON to 7:00 PM\nSunday\, June 9th: NOON to 7:00 PM\nGet your tickets here: https://www.eventbrite.com/e/hippie-fest-michigan-tickets-756493872537
URL:https://expressionsbodyartdesign.com/event/hippie-fest-2024/
LOCATION:IL
CATEGORIES:Festival
ATTACH;FMTTYPE=image/jpeg:https://expressionsbodyartdesign.com/wp-content/uploads/2024/02/HippieFEST.jpg
END:VEVENT
BEGIN:VEVENT
DTSTART;TZID=America/Chicago:20240608T100000
DTEND;TZID=America/Chicago:20240608T130000
DTSTAMP:20260419T132405
CREATED:20240531T201545Z
LAST-MODIFIED:20240531T201545Z
UID:10000191-1717840800-1717851600@expressionsbodyartdesign.com
SUMMARY:Henry Rotary Club: Downtown Henry\, IL
DESCRIPTION:
URL:https://expressionsbodyartdesign.com/event/henry-rotary-club-downtown-henry-il/
LOCATION:IL
CATEGORIES:Community Event,Sponsored Event
END:VEVENT
BEGIN:VEVENT
DTSTART;TZID=America/Chicago:20240608T090000
DTEND;TZID=America/Chicago:20240608T170000
DTSTAMP:20260419T132405
CREATED:20240604T214704Z
LAST-MODIFIED:20240604T214704Z
UID:10000199-1717837200-1717866000@expressionsbodyartdesign.com
SUMMARY:Cogs and Corsets (A Steampunk Happening)
DESCRIPTION:Cogs and Corsets (A Steampunk Happening)\nDowntown Bloomington\, IL \nOHHHH. MMMM. GEEEE. Guess where we will be on Saturday\, June 8th? You can find us Downtown Bloomington at the 7th annual Cogs & Corsets: A Steampunk Happening at Main and Monroe from 9AM to 5PM. WE ARE SO STINKING EXCITED to be a part of this event! Come find us and EXPRESS YOURSELF!!!!
URL:https://expressionsbodyartdesign.com/event/cogs-and-corsets-a-steampunk-happening/
LOCATION:IL
CATEGORIES:Festival
ATTACH;FMTTYPE=image/jpeg:https://expressionsbodyartdesign.com/wp-content/uploads/2024/06/Cogs-and-Corsets-June2024.jpg
END:VEVENT
BEGIN:VEVENT
DTSTART;TZID=America/Chicago:20240608T090000
DTEND;TZID=America/Chicago:20240608T120000
DTSTAMP:20260419T132406
CREATED:20240430T005022Z
LAST-MODIFIED:20240430T005509Z
UID:10000159-1717837200-1717848000@expressionsbodyartdesign.com
SUMMARY:Special Olympics Illinois
DESCRIPTION:Special Olympics Illinois \nSummer Games is one of 13 state sports competitions. It is the championship-level competition for athletics\, bocce\, Unified bocce\, powerlifting\, soccer\, swimming\, artistic gymnastics and rhythmic gymnastics. In addition\, the Young Athletes programming for kids ages 2-7 years old. \nSummer Games is a three-day event held June 7th-9th 2024 in Bloomington-Normal. Summer Games includes more than 3\,000 athletes\, 1\,000 coaches\, and approximately 43 Unified partners. \nLearn more here: https://www.soill.org/blog/events/summer-games-116-175/ \nExpressions Body Art and Design is HONORED to be a part of Special Olympics at Illinois State University. 
URL:https://expressionsbodyartdesign.com/event/special-olympics-illinois/
LOCATION:Illinois State University: Turner Hall\, 700 W College Avenue\, Normal\, 61761\, United States
CATEGORIES:Sponsored Event
ATTACH;FMTTYPE=image/jpeg:https://expressionsbodyartdesign.com/wp-content/uploads/2024/04/SpecialOlympics-Illinois.jpg
END:VEVENT
BEGIN:VEVENT
DTSTART;TZID=America/Chicago:20240606T173000
DTEND;TZID=America/Chicago:20240606T183000
DTSTAMP:20260419T132406
CREATED:20240531T201406Z
LAST-MODIFIED:20240531T201422Z
UID:10000190-1717695000-1717698600@expressionsbodyartdesign.com
SUMMARY:SAL Community Services: Home Network
DESCRIPTION:
URL:https://expressionsbodyartdesign.com/event/sal-community-services/
LOCATION:IL
CATEGORIES:Sponsored Event
END:VEVENT
BEGIN:VEVENT
DTSTART;TZID=America/Chicago:20240606T160000
DTEND;TZID=America/Chicago:20240606T200000
DTSTAMP:20260419T132406
CREATED:20240429T191958Z
LAST-MODIFIED:20240429T191958Z
UID:10000157-1717689600-1717704000@expressionsbodyartdesign.com
SUMMARY:Summer Kick Off Family Night Event @DESTIHL Brewery and Beer Hall
DESCRIPTION:Summer Kick Off Family Night Event @DESTIHL Brewery and Beer Hall \nCome join us for family friendly face painting\, glitter tattoos and henna tattoos to celebrate summer kick off at Destihl! \nThursday\, June 6th\n4:00 to 8:00 PM\nDESTIHL Brewery and Beer Hall\n1200 Greenbriar Dr\, Normal\, IL 61761 \n 
URL:https://expressionsbodyartdesign.com/event/summer-kick-off-family-night/
LOCATION:DESTIHL Brewery and Beer Hall\, 1200 Greenbriar Drive\, Normal\, IL\, 61761\, United States
CATEGORIES:Pop Up Market
ATTACH;FMTTYPE=image/jpeg:https://expressionsbodyartdesign.com/wp-content/uploads/2024/04/destihl.jpg
END:VEVENT
BEGIN:VEVENT
DTSTART;TZID=America/Chicago:20240605T160000
DTEND;TZID=America/Chicago:20240605T190000
DTSTAMP:20260419T132406
CREATED:20240516T032801Z
LAST-MODIFIED:20240516T032801Z
UID:10000168-1717603200-1717614000@expressionsbodyartdesign.com
SUMMARY:Mahomet Market on Main
DESCRIPTION:JOIN US EVERY WEDNESDAY at the Mahomet Market on Main!\nMay 15th to August 14th 2024\nEach week we will be offering face painting and glitter tattoos. Some weeks we may also have henna tattoos and hair tinsel. \n\nLooking for good food\, amazing popcorn and some local craft vendors\, look no further than Mahomet Market! \n\nAdditional Information: Free parking availableFamily-friendly eventFree to attend \nJoin us for a delightful evening at Mahomet Market on Main! Can’t wait to see you there!\nhttps://www.facebook.com/mahometmarket/ \nThe Green Space on: 511 E Main St\, Mahomet\, IL 61853-3538
URL:https://expressionsbodyartdesign.com/event/mahomet-market-on-main-4/
LOCATION:Mahomet Market on Main\, 511 E Main Street\, Mahomet\, IL\, 61853-3538\, United States
CATEGORIES:Farmer's Market
ATTACH;FMTTYPE=image/jpeg:https://expressionsbodyartdesign.com/wp-content/uploads/2024/05/MahometMarketonMain.jpg
END:VEVENT
BEGIN:VEVENT
DTSTART;TZID=America/Chicago:20240602T120000
DTEND;TZID=America/Chicago:20240602T150000
DTSTAMP:20260419T132406
CREATED:20240222T040037Z
LAST-MODIFIED:20240222T040037Z
UID:10000089-1717329600-1717340400@expressionsbodyartdesign.com
SUMMARY:LeRoy Farmer's Market
DESCRIPTION:LeRoy Farmer’s Market 2024 \nYou will find Expressions Body Art and Design at the LeRoy Farmer’s Market\nevery Sunday from May 26th to October 13th from NOON to 3:00 PM.   \nWe offer face painting\, glitter tattoos\, henna tattoos and hair tinsel. 
URL:https://expressionsbodyartdesign.com/event/leroy-farmers-market-2/
LOCATION:LeRoy’s Farmer’s Market\, 101 West Center Street\, LeRoy\, IL\, 61752\, United States
CATEGORIES:Farmer's Market
ATTACH;FMTTYPE=image/jpeg:https://expressionsbodyartdesign.com/wp-content/uploads/2024/02/LeroysFarmersMarket-e1708574321353.jpg
END:VEVENT
BEGIN:VEVENT
DTSTART;TZID=America/Chicago:20240602T110000
DTEND;TZID=America/Chicago:20240602T160000
DTSTAMP:20260419T132406
CREATED:20240531T202232Z
LAST-MODIFIED:20240531T202309Z
UID:10000193-1717326000-1717344000@expressionsbodyartdesign.com
SUMMARY:Green Gables: Sunday Funday!
DESCRIPTION:WE ARE SO EXCITED TO ANNOUNCE that we will be at Green Gables Bar and Grill EVERY Sunday back in the BEAUTIFUL new beer garden offering face painting\, glitter tattoos\, henna tattoos and super fun summer hair tinsel. We will start when Green Gables opens at 11:00 AM and be there until at least 4:00 PM! \n\nWE ARE HONORED to be a part of your Sunday experience at the LEDGENDARY Green Gables in Hudson\, IL. So enjoy your burger \, your beverage (may we suggest the house 40 Horse Limit by Analytical Brewing if you are inclined to do so) and EXPRESS YOURSELF with Expressions Body Art and Design! 
URL:https://expressionsbodyartdesign.com/event/green-gables-sunday2/
LOCATION:Green Gables\, 17485 E 2500 North Rd N\, Hudson\, IL\, 61748\, United States
CATEGORIES:Other,Restaurant/Bar
ATTACH;FMTTYPE=image/webp:https://expressionsbodyartdesign.com/wp-content/uploads/2024/05/Green-Gables-just-fish-and-gg.webp
END:VEVENT
BEGIN:VEVENT
DTSTART;TZID=America/Chicago:20240601T130000
DTEND;TZID=America/Chicago:20240601T170000
DTSTAMP:20260419T132406
CREATED:20240523T210029Z
LAST-MODIFIED:20240524T014512Z
UID:10000187-1717246800-1717261200@expressionsbodyartdesign.com
SUMMARY:Bradford Community Fire Protection District: ANNUAL HOG ROAST
DESCRIPTION:
URL:https://expressionsbodyartdesign.com/event/bradford-hog-roast-2024/
LOCATION:Bradford Community Fire Protection District\, 239 W. Main Street\, Bradford\, IL\, 61421\, United States
CATEGORIES:Community Event,Festival,Sponsored Event
ATTACH;FMTTYPE=image/jpeg:https://expressionsbodyartdesign.com/wp-content/uploads/2024/05/Bradford-FireHouse-Hog-Roast.jpg
END:VEVENT
BEGIN:VEVENT
DTSTART;TZID=America/Chicago:20240601T110000
DTEND;TZID=America/Chicago:20240601T140000
DTSTAMP:20260419T132406
CREATED:20240523T205201Z
LAST-MODIFIED:20240523T205201Z
UID:10000186-1717239600-1717250400@expressionsbodyartdesign.com
SUMMARY:Private Event: Nu-Way Transportation Company Picnic
DESCRIPTION:
URL:https://expressionsbodyartdesign.com/event/private-event-nu-way-transportation-company-picnic/
LOCATION:IL
CATEGORIES:Private Event,Sponsored Event
END:VEVENT
BEGIN:VEVENT
DTSTART;TZID=America/Chicago:20240601T090000
DTEND;TZID=America/Chicago:20240601T150000
DTSTAMP:20260419T132406
CREATED:20240329T024113Z
LAST-MODIFIED:20240329T024113Z
UID:10000141-1717232400-1717254000@expressionsbodyartdesign.com
SUMMARY:Crafts on the River
DESCRIPTION:Crafts on the River\nSaturday\, June 1\, 2024 \nCome get your craft on at the Crafts on the River in Peoria @ Detweiller Park.\nWe will be offering family friendly face painting\, glitter tattoos\, henna art and fun hair tinsel. 
URL:https://expressionsbodyartdesign.com/event/crafts-on-the-river/
LOCATION:Detweiller Park\, 8327 N Galena Road\, Peoria\, IL\, 61615\, United States
CATEGORIES:Craft and Vendor Shows
ATTACH;FMTTYPE=image/jpeg:https://expressionsbodyartdesign.com/wp-content/uploads/2024/03/Crafts-on-the-River-2024.jpg
END:VEVENT
BEGIN:VEVENT
DTSTART;TZID=America/Chicago:20240529T163000
DTEND;TZID=America/Chicago:20240529T183000
DTSTAMP:20260419T132406
CREATED:20240523T204850Z
LAST-MODIFIED:20240523T204850Z
UID:10000185-1717000200-1717007400@expressionsbodyartdesign.com
SUMMARY:El Paso District Library: Summer Reading Program: Read\, Renew\, Repeat
DESCRIPTION:We are thrilled to be a part of summer reading!!!! Join us at the El Paso District Library: Summer Reading Program: Read\, Renew\, Repeat from 4:30 to 6:30 for sponsored face painting!
URL:https://expressionsbodyartdesign.com/event/el-paso-district-library-05292024/
LOCATION:El Paso District Library\, 149 W 1st Street\, El Paso\, IL\, 61738\, United States
CATEGORIES:Library Event,Sponsored Event
ATTACH;FMTTYPE=image/png:https://expressionsbodyartdesign.com/wp-content/uploads/2024/05/Elpaso-library-long-logo.png
END:VEVENT
BEGIN:VEVENT
DTSTART;TZID=America/Chicago:20240529T160000
DTEND;TZID=America/Chicago:20240529T190000
DTSTAMP:20260419T132406
CREATED:20240516T032722Z
LAST-MODIFIED:20240516T032722Z
UID:10000167-1716998400-1717009200@expressionsbodyartdesign.com
SUMMARY:Mahomet Market on Main
DESCRIPTION:JOIN US EVERY WEDNESDAY at the Mahomet Market on Main!\nMay 15th to August 14th 2024\nEach week we will be offering face painting and glitter tattoos. Some weeks we may also have henna tattoos and hair tinsel. \n\nLooking for good food\, amazing popcorn and some local craft vendors\, look no further than Mahomet Market! \n\nAdditional Information: Free parking availableFamily-friendly eventFree to attend \nJoin us for a delightful evening at Mahomet Market on Main! Can’t wait to see you there!\nhttps://www.facebook.com/mahometmarket/ \nThe Green Space on: 511 E Main St\, Mahomet\, IL 61853-3538
URL:https://expressionsbodyartdesign.com/event/mahomet-market-on-main-3/
LOCATION:Mahomet Market on Main\, 511 E Main Street\, Mahomet\, IL\, 61853-3538\, United States
CATEGORIES:Farmer's Market
ATTACH;FMTTYPE=image/jpeg:https://expressionsbodyartdesign.com/wp-content/uploads/2024/05/MahometMarketonMain.jpg
END:VEVENT
BEGIN:VEVENT
DTSTART;TZID=America/Chicago:20240527T110000
DTEND;TZID=America/Chicago:20240527T160000
DTSTAMP:20260419T132406
CREATED:20240523T203738Z
LAST-MODIFIED:20240523T203738Z
UID:10000184-1716807600-1716825600@expressionsbodyartdesign.com
SUMMARY:Memorial Weekend at Green Gables
DESCRIPTION:THREE DAY WEEKEND AHEAD! \nLook for Expressions Body Art & Design at Green Gables ALL Memorial Day Weekend offering face painting\, glitter tattoos\, henna tattoos and hair tinsel on Saturday\, Sunday and Monday 11 AM to 4 PM. We will be located in the back grassy area off the beer garden. Get your 40 Horse Limit draft or can brewed by Analytical Brewing\, order a legendary burger from Green Gables and EXPRESS YOURSELF with Expressions Body Art and Design. We will be launching our summer seasonal “Americana” designs this weekend as well!  \n#ExpressionsBodyArtDesign #ExpressYourself #HairTinsel #GlitterTattoos #FacePainting #HennaTattoos #FamilyFun #ThisisFUN #Gratitudeisourattitude #GreenGables #40HorseLimit #AnalyticalBrewing #HAMBURGERS
URL:https://expressionsbodyartdesign.com/event/green-gables-05272024/
LOCATION:Green Gables\, 17485 E 2500 North Rd N\, Hudson\, IL\, 61748\, United States
CATEGORIES:Other,Restaurant/Bar
ATTACH;FMTTYPE=image/jpeg:https://expressionsbodyartdesign.com/wp-content/uploads/2024/05/GreenGables-MemorialWeekend.jpg
END:VEVENT
BEGIN:VEVENT
DTSTART;TZID=America/Chicago:20240526T163000
DTEND;TZID=America/Chicago:20240526T180000
DTSTAMP:20260419T132406
CREATED:20240525T025135Z
LAST-MODIFIED:20240525T025223Z
UID:10000189-1716741000-1716746400@expressionsbodyartdesign.com
SUMMARY:Private Event: The Notorious One
DESCRIPTION:Private Event: The Notorious One
URL:https://expressionsbodyartdesign.com/event/private-event-the-notorious-one/
LOCATION:IL
CATEGORIES:Private Event,Sponsored Event
END:VEVENT
BEGIN:VEVENT
DTSTART;TZID=America/Chicago:20240526T120000
DTEND;TZID=America/Chicago:20240526T150000
DTSTAMP:20260419T132406
CREATED:20240222T035857Z
LAST-MODIFIED:20240222T035924Z
UID:10000088-1716724800-1716735600@expressionsbodyartdesign.com
SUMMARY:LeRoy Farmer's Market
DESCRIPTION:LeRoy Farmer’s Market 2024 \nYou will find Expressions Body Art and Design at the LeRoy Farmer’s Market\nevery Sunday from May 26th to October 13th from NOON to 3:00 PM.   \nWe offer face painting\, glitter tattoos\, henna tattoos and hair tinsel. 
URL:https://expressionsbodyartdesign.com/event/leroy-farmers-market/
LOCATION:LeRoy’s Farmer’s Market\, 101 West Center Street\, LeRoy\, IL\, 61752\, United States
CATEGORIES:Farmer's Market
ATTACH;FMTTYPE=image/jpeg:https://expressionsbodyartdesign.com/wp-content/uploads/2024/02/LeroysFarmersMarket-e1708574321353.jpg
END:VEVENT
BEGIN:VEVENT
DTSTART;TZID=America/Chicago:20240526T120000
DTEND;TZID=America/Chicago:20240526T140000
DTSTAMP:20260419T132406
CREATED:20240525T024920Z
LAST-MODIFIED:20240525T025305Z
UID:10000188-1716724800-1716732000@expressionsbodyartdesign.com
SUMMARY:Private Event: Pentecostal Church of Jesus Christ: Family and Friends Day
DESCRIPTION:Private Event: Pentecostal Church of Jesus Christ: Family and Friends Day
URL:https://expressionsbodyartdesign.com/event/private-event-pentecostal-church/
LOCATION:IL
CATEGORIES:Private Event,Sponsored Event
END:VEVENT
BEGIN:VEVENT
DTSTART;TZID=America/Chicago:20240526T110000
DTEND;TZID=America/Chicago:20240526T160000
DTSTAMP:20260419T132406
CREATED:20240523T203641Z
LAST-MODIFIED:20240523T203641Z
UID:10000183-1716721200-1716739200@expressionsbodyartdesign.com
SUMMARY:Memorial Weekend at Green Gables
DESCRIPTION:THREE DAY WEEKEND AHEAD! \nLook for Expressions Body Art & Design at Green Gables ALL Memorial Day Weekend offering face painting\, glitter tattoos\, henna tattoos and hair tinsel on Saturday\, Sunday and Monday 11 AM to 4 PM. We will be located in the back grassy area off the beer garden. Get your 40 Horse Limit draft or can brewed by Analytical Brewing\, order a legendary burger from Green Gables and EXPRESS YOURSELF with Expressions Body Art and Design. We will be launching our summer seasonal “Americana” designs this weekend as well!  \n#ExpressionsBodyArtDesign #ExpressYourself #HairTinsel #GlitterTattoos #FacePainting #HennaTattoos #FamilyFun #ThisisFUN #Gratitudeisourattitude #GreenGables #40HorseLimit #AnalyticalBrewing #HAMBURGERS
URL:https://expressionsbodyartdesign.com/event/green-gables-05262024/
LOCATION:Green Gables\, 17485 E 2500 North Rd N\, Hudson\, IL\, 61748\, United States
CATEGORIES:Other,Restaurant/Bar
ATTACH;FMTTYPE=image/jpeg:https://expressionsbodyartdesign.com/wp-content/uploads/2024/05/GreenGables-MemorialWeekend.jpg
END:VEVENT
BEGIN:VEVENT
DTSTART;TZID=America/Chicago:20240525T110000
DTEND;TZID=America/Chicago:20240525T160000
DTSTAMP:20260419T132406
CREATED:20240523T203441Z
LAST-MODIFIED:20240523T203441Z
UID:10000182-1716634800-1716652800@expressionsbodyartdesign.com
SUMMARY:Memorial Weekend at Green Gables
DESCRIPTION:THREE DAY WEEKEND AHEAD! \nLook for Expressions Body Art & Design at Green Gables ALL Memorial Day Weekend offering face painting\, glitter tattoos\, henna tattoos and hair tinsel on Saturday\, Sunday and Monday 11 AM to 4 PM. We will be located in the back grassy area off the beer garden. Get your 40 Horse Limit draft or can brewed by Analytical Brewing\, order a legendary burger from Green Gables and EXPRESS YOURSELF with Expressions Body Art and Design. We will be launching our summer seasonal “Americana” designs this weekend as well!  \n#ExpressionsBodyArtDesign #ExpressYourself #HairTinsel #GlitterTattoos #FacePainting #HennaTattoos #FamilyFun #ThisisFUN #Gratitudeisourattitude #GreenGables #40HorseLimit #AnalyticalBrewing #HAMBURGERS
URL:https://expressionsbodyartdesign.com/event/green-gables-05252024/
LOCATION:Green Gables\, 17485 E 2500 North Rd N\, Hudson\, IL\, 61748\, United States
CATEGORIES:Other,Restaurant/Bar
ATTACH;FMTTYPE=image/jpeg:https://expressionsbodyartdesign.com/wp-content/uploads/2024/05/GreenGables-MemorialWeekend.jpg
END:VEVENT
BEGIN:VEVENT
DTSTART;TZID=America/Chicago:20240522T160000
DTEND;TZID=America/Chicago:20240522T190000
DTSTAMP:20260419T132406
CREATED:20240516T032647Z
LAST-MODIFIED:20240516T032647Z
UID:10000166-1716393600-1716404400@expressionsbodyartdesign.com
SUMMARY:Mahomet Market on Main
DESCRIPTION:JOIN US EVERY WEDNESDAY at the Mahomet Market on Main!\nMay 15th to August 14th 2024\nEach week we will be offering face painting and glitter tattoos. Some weeks we may also have henna tattoos and hair tinsel. \n\nLooking for good food\, amazing popcorn and some local craft vendors\, look no further than Mahomet Market! \n\nAdditional Information: Free parking availableFamily-friendly eventFree to attend \nJoin us for a delightful evening at Mahomet Market on Main! Can’t wait to see you there!\nhttps://www.facebook.com/mahometmarket/ \nThe Green Space on: 511 E Main St\, Mahomet\, IL 61853-3538
URL:https://expressionsbodyartdesign.com/event/mahomet-market-on-main-2/
LOCATION:Mahomet Market on Main\, 511 E Main Street\, Mahomet\, IL\, 61853-3538\, United States
CATEGORIES:Farmer's Market
ATTACH;FMTTYPE=image/jpeg:https://expressionsbodyartdesign.com/wp-content/uploads/2024/05/MahometMarketonMain.jpg
END:VEVENT
BEGIN:VEVENT
DTSTART;TZID=America/Chicago:20240521T160000
DTEND;TZID=America/Chicago:20240521T190000
DTSTAMP:20260419T132406
CREATED:20240516T033538Z
LAST-MODIFIED:20240516T033538Z
UID:10000175-1716307200-1716318000@expressionsbodyartdesign.com
SUMMARY:Private Event: The Baby Fold
DESCRIPTION:
URL:https://expressionsbodyartdesign.com/event/private-event-the-baby-fold/
LOCATION:IL
CATEGORIES:Private Event
END:VEVENT
BEGIN:VEVENT
DTSTART;TZID=America/Chicago:20240519T110000
DTEND;TZID=America/Chicago:20240519T180000
DTSTAMP:20260419T132406
CREATED:20240329T022907Z
LAST-MODIFIED:20240329T022926Z
UID:10000140-1716116400-1716141600@expressionsbodyartdesign.com
SUMMARY:The 34th Annual Iowa Metaphysical Fair
DESCRIPTION:34th Annual IA Metaphysical Fair\nMay 18-19\, 2024\nSaturday 11am – 8 pm\nSunday 11am – 6pm\nIn the 4H Building IA State Fairgrounds\nhttps://www.iowastatefairgrounds.org/buildings/bruce-l-rastetter-4-h-exhibits-building\n\nOver 100 booths bringing you the best of the best under one roof. Readers\, healers\, vendors and more. Take in amazing open galleries workshops and lectures as part of paid admission This event is run by a non-profit group that gives back to local charities. Keep checking FB page for ticket giveaways. Bring non perishable item for $1.00 off gate. \nExpressions will be offering Face Painting\, Glitter Tattoos and Henna Art
URL:https://expressionsbodyartdesign.com/event/the-34th-imf-2/
LOCATION:Iowa State Fairgrounds\, 3000 E Grand Avenue\, Des Moines\, IA\, 50317\, United States
CATEGORIES:Festival
ATTACH;FMTTYPE=image/jpeg:https://expressionsbodyartdesign.com/wp-content/uploads/2024/03/ai-generated-8639465_1920.jpg
END:VEVENT
END:VCALENDAR