BEGIN:VCALENDAR
VERSION:2.0
PRODID:-//Expressions Body Art and Design | Express Yourself with Face Painting, Glitter Tattoos, Henna, Hair Tinsel and More - ECPv6.15.20//NONSGML v1.0//EN
CALSCALE:GREGORIAN
METHOD:PUBLISH
X-WR-CALNAME:Expressions Body Art and Design | Express Yourself with Face Painting, Glitter Tattoos, Henna, Hair Tinsel and More
X-ORIGINAL-URL:https://expressionsbodyartdesign.com
X-WR-CALDESC:Events for Expressions Body Art and Design | Express Yourself with Face Painting, Glitter Tattoos, Henna, Hair Tinsel and More
REFRESH-INTERVAL;VALUE=DURATION:PT1H
X-Robots-Tag:noindex
X-PUBLISHED-TTL:PT1H
BEGIN:VTIMEZONE
TZID:America/Chicago
BEGIN:DAYLIGHT
TZOFFSETFROM:-0600
TZOFFSETTO:-0500
TZNAME:CDT
DTSTART:20230312T080000
END:DAYLIGHT
BEGIN:STANDARD
TZOFFSETFROM:-0500
TZOFFSETTO:-0600
TZNAME:CST
DTSTART:20231105T070000
END:STANDARD
BEGIN:DAYLIGHT
TZOFFSETFROM:-0600
TZOFFSETTO:-0500
TZNAME:CDT
DTSTART:20240310T080000
END:DAYLIGHT
BEGIN:STANDARD
TZOFFSETFROM:-0500
TZOFFSETTO:-0600
TZNAME:CST
DTSTART:20241103T070000
END:STANDARD
BEGIN:DAYLIGHT
TZOFFSETFROM:-0600
TZOFFSETTO:-0500
TZNAME:CDT
DTSTART:20250309T080000
END:DAYLIGHT
BEGIN:STANDARD
TZOFFSETFROM:-0500
TZOFFSETTO:-0600
TZNAME:CST
DTSTART:20251102T070000
END:STANDARD
END:VTIMEZONE
BEGIN:VEVENT
DTSTART;TZID=America/Chicago:20240929T163000
DTEND;TZID=America/Chicago:20240929T190000
DTSTAMP:20260420T052102
CREATED:20241016T182415Z
LAST-MODIFIED:20241016T182415Z
UID:10000550-1727627400-1727636400@expressionsbodyartdesign.com
SUMMARY:Bistro Event: Out of the Darkness
DESCRIPTION:Bloomington/Normal “Out of the Darkness” community walk fundraiser *ALL AGES EVENT* $5 cover (13 years and under are FREE) to benefit American Foundation for Suicide Prevention *Live music* *Drink specials* *Raffle* *Karaoke* …*Face Painting and Glitter Tattoos* and more TBA!* Join friends\, family\, and community members as we honor loved ones and bring hope to those affected by suicide. \nhttps://www.facebook.com/events/s/music-for-change/3722333231356373/
URL:https://expressionsbodyartdesign.com/event/bistro-event-out-of-the-darkness/
LOCATION:The Bistro\, 316 N Main Street\, Bloomington\, 61701\, United States
CATEGORIES:Awareness,Community Event,Fundraiser,Public Event
ATTACH;FMTTYPE=image/jpeg:https://expressionsbodyartdesign.com/wp-content/uploads/2024/10/MusicForChange-1.jpg
END:VEVENT
END:VCALENDAR